BEGIN:VCALENDAR
VERSION:2.0
PRODID:-//Ayto Bailén - ECPv6.15.20//NONSGML v1.0//EN
CALSCALE:GREGORIAN
METHOD:PUBLISH
X-ORIGINAL-URL:https://ayto-bailen.com
X-WR-CALDESC:Eventos para Ayto Bailén
REFRESH-INTERVAL;VALUE=DURATION:PT1H
X-Robots-Tag:noindex
X-PUBLISHED-TTL:PT1H
BEGIN:VTIMEZONE
TZID:UTC
BEGIN:STANDARD
TZOFFSETFROM:+0000
TZOFFSETTO:+0000
TZNAME:UTC
DTSTART:20230101T000000
END:STANDARD
END:VTIMEZONE
BEGIN:VEVENT
DTSTART;VALUE=DATE:20241109
DTEND;VALUE=DATE:20241110
DTSTAMP:20260423T122008
CREATED:20241106T164908Z
LAST-MODIFIED:20241106T164908Z
UID:23314-1731110400-1731196799@ayto-bailen.com
SUMMARY:Fútbol Sala
DESCRIPTION:Categoría Senior Masculino 3ª División \nC.D. Bailén 2008 F.S. \nC.D. Universidad de Malaga \nHora: 17:30 Horas \nUbicación:: Pabellón Municipal “28 de Febrero”
URL:https://ayto-bailen.com/eventos/futbol-sala-55/
CATEGORIES:Deportes
ORGANIZER;CN="Delegaci%C3%B3n de Deportes":MAILTO:deportes@ayto-bailen.com
END:VEVENT
BEGIN:VEVENT
DTSTART;VALUE=DATE:20241109
DTEND;VALUE=DATE:20241110
DTSTAMP:20260423T122008
CREATED:20241106T170411Z
LAST-MODIFIED:20241106T170411Z
UID:23318-1731110400-1731196799@ayto-bailen.com
SUMMARY:Fútbol
DESCRIPTION:Categoría Fútbol 7 Alevin 3ª Andaluza \nRtvo\, de Bailén C.F. \nC.D. Jaén 2021 \nHora: 12:00 Horas \nCategoría Fútbol 7 Benjamin3ª Andaluza \nRtvo\, de Bailén C.F. \nC.D. Tuccitana \nHora: 12:00 Horas \nCategoría Fútbol Cadete 2ª Andaluza \nRtvo\, de Bailén C.F. \nC.D. Ubeda Viva \nHora: 16:30 Horas \nCategoría Fútbol Juvenil 2ª Andaluza \nRtvo\, de Bailén C.F. \nC.D Ubeda Viva \nHora: 19:00 Horas \nUbicación: Complejo Municipal “19 de Julio” Campo “Gregorio Manzano Ballesteros” \n 
URL:https://ayto-bailen.com/eventos/futbol-89/
CATEGORIES:Deportes
ORGANIZER;CN="Delegaci%C3%B3n de Deportes":MAILTO:deportes@ayto-bailen.com
END:VEVENT
BEGIN:VEVENT
DTSTART;TZID=UTC:20241109T200000
DTEND;TZID=UTC:20241109T220000
DTSTAMP:20260423T122008
CREATED:20241026T131449Z
LAST-MODIFIED:20241028T091140Z
UID:23157-1731182400-1731189600@ayto-bailen.com
SUMMARY:Teatro Otoño cultural Los Invisibles de La Coracha Teatro
DESCRIPTION:Sinópsis\n\n\n\n\nDos mendigos. Él\, que lleva poco tiempo en la calle\, no ha olvidado la vida visible y la necesita. Ella\, que ya ha perdido la cuenta\, ha encontrado en la invisibilidad su propia felicidad. Illa y Tío Mierda se volvieron invisibles para el mundo por razones muy distintas\, y hoy ‘celebran’ el primer aniversario de su encuentro en la calle. \n\nVenta de entradas Casa de la Cultura. Precio 3 euros. \n 
URL:https://ayto-bailen.com/eventos/teatro-otono-cultural-los-invisibles-de-la-coracha-teatro/
LOCATION:Salón de Actos de la Casa de la Cultura\, Calle de los Héroes de Bailén\, número 18\, Bailén\, Jaén\, 23710\, España
CATEGORIES:Evento Cultural
END:VEVENT
BEGIN:VEVENT
DTSTART;VALUE=DATE:20241110
DTEND;VALUE=DATE:20241111
DTSTAMP:20260423T122008
CREATED:20241106T165301Z
LAST-MODIFIED:20241106T165301Z
UID:23316-1731196800-1731283199@ayto-bailen.com
SUMMARY:Fútbol Sala
DESCRIPTION:Categoría Alevin Masculino \nC.D. Bailén 2008 F.S. \nBlemez F.S. \nHora: 12:00 Horas \nCategoría Senior Masculino 2ª Andaluza \nC.D. Bailén 2008 F.S. \nPatin Bar \nHora: 19:30 Horas \nUbicación:: Pabellón Municipal “28 de Febrero”
URL:https://ayto-bailen.com/eventos/futbol-sala-56/
CATEGORIES:Deportes
ORGANIZER;CN="Delegaci%C3%B3n de Deportes":MAILTO:deportes@ayto-bailen.com
END:VEVENT
BEGIN:VEVENT
DTSTART;VALUE=DATE:20241110
DTEND;VALUE=DATE:20241111
DTSTAMP:20260423T122008
CREATED:20241106T171320Z
LAST-MODIFIED:20241106T171320Z
UID:23320-1731196800-1731283199@ayto-bailen.com
SUMMARY:Fútbol
DESCRIPTION:Categoría Fútbol 7 Alevin 4ª Andaluza \nRtvo\, de Bailén C.F. \nC.D. Tugia \nHora: 12:00 Horas \nCategoría Fútbol 7 Alevin 4ª Andaluza \nRtvo\, de Bailén C.F. \nBegijar C.F. \nHora: 12:00 Horas \nCategoría Fútbol Cadete Femenino 2ª Andaluza \nRtvo\, de Bailén C.F. \nC.D. Linares C.F. \nHora: 16:00 Horas \n\nUbicación: Complejo Municipal “19 de Julio” Campo “Gregorio Manzano Ballesteros”
URL:https://ayto-bailen.com/eventos/futbol-90/
CATEGORIES:Deportes
ORGANIZER;CN="Delegaci%C3%B3n de Deportes":MAILTO:deportes@ayto-bailen.com
END:VEVENT
BEGIN:VEVENT
DTSTART;VALUE=DATE:20241110
DTEND;VALUE=DATE:20241111
DTSTAMP:20260423T122008
CREATED:20241106T172835Z
LAST-MODIFIED:20241106T172835Z
UID:23322-1731196800-1731283199@ayto-bailen.com
SUMMARY:Baloncesto
DESCRIPTION:Categoría Senior  Provincial \nUb Bailén/C.P.D. Bailén \nC.B. Baeza \nHora: 18:30 horas \nUbicación:: Complejo !9 de Julio Pista Polideportiva “Juan Sanz Sánchez
URL:https://ayto-bailen.com/eventos/baloncesto-36/
CATEGORIES:Deportes
ORGANIZER;CN="Delegaci%C3%B3n de Deportes":MAILTO:deportes@ayto-bailen.com
END:VEVENT
BEGIN:VEVENT
DTSTART;TZID=UTC:20241110T120000
DTEND;TZID=UTC:20241110T140000
DTSTAMP:20260423T122008
CREATED:20241026T132013Z
LAST-MODIFIED:20241026T132013Z
UID:23161-1731240000-1731247200@ayto-bailen.com
SUMMARY:Concierto en honor de Sta. Cecilia
DESCRIPTION:
URL:https://ayto-bailen.com/eventos/concierto-en-honor-de-sta-cecilia/
CATEGORIES:Evento Cultural
END:VEVENT
BEGIN:VEVENT
DTSTART;TZID=UTC:20241115T200000
DTEND;TZID=UTC:20241115T220000
DTSTAMP:20260423T122008
CREATED:20241026T133854Z
LAST-MODIFIED:20241026T133854Z
UID:23165-1731700800-1731708000@ayto-bailen.com
SUMMARY:Teatro Otoño Cultural La Casa de Bernarda Alba Apaem
DESCRIPTION:
URL:https://ayto-bailen.com/eventos/teatro-otono-cultural-la-casa-de-bernarda-alba-apaem/
LOCATION:Salón de Actos de la Casa de la Cultura\, Calle de los Héroes de Bailén\, número 18\, Bailén\, Jaén\, 23710\, España
CATEGORIES:Evento Cultural
END:VEVENT
BEGIN:VEVENT
DTSTART;VALUE=DATE:20241116
DTEND;VALUE=DATE:20241117
DTSTAMP:20260423T122008
CREATED:20241113T152554Z
LAST-MODIFIED:20241113T152554Z
UID:23451-1731715200-1731801599@ayto-bailen.com
SUMMARY:Fútbol Sala
DESCRIPTION:Categoría Cadete Masculino Provincial \nC.D. Bailén 2008 F.S. \nLa Charca F.S. \nHora: 12:30 Horas \nUbicación:: Pabellón Municipal “28 de Febrero”
URL:https://ayto-bailen.com/eventos/futbol-sala-57/
CATEGORIES:Deportes
ORGANIZER;CN="Delegaci%C3%B3n de Deportes":MAILTO:deportes@ayto-bailen.com
END:VEVENT
BEGIN:VEVENT
DTSTART;VALUE=DATE:20241116
DTEND;VALUE=DATE:20241117
DTSTAMP:20260423T122008
CREATED:20241113T154316Z
LAST-MODIFIED:20241113T154316Z
UID:23455-1731715200-1731801599@ayto-bailen.com
SUMMARY:Fútbol
DESCRIPTION:Categoría Fútbol 7 Femenino \nC.D. Atco. Bailén 1808 \nLinares Deportivo \nHora:17:00 horas \nCategoría Infantil 3ª Andaluza \nRtvo. Bailen CF \nCD Utica \nHora:16:30 horas \nCategoría Juvenil 3ª Andaluza \nRtvo. Bailen CF \nCD Andujar \nHora:19:00 horas \nUbicación: Complejo Municipal “19 de Julio” Campo “Gregorio Manzano Ballesteros” \n 
URL:https://ayto-bailen.com/eventos/futbol-91/
CATEGORIES:Deportes
ORGANIZER;CN="Delegaci%C3%B3n de Deportes":MAILTO:deportes@ayto-bailen.com
END:VEVENT
BEGIN:VEVENT
DTSTART;VALUE=DATE:20241116
DTEND;VALUE=DATE:20241117
DTSTAMP:20260423T122008
CREATED:20241113T161146Z
LAST-MODIFIED:20241113T161146Z
UID:23459-1731715200-1731801599@ayto-bailen.com
SUMMARY:Baloncesto
DESCRIPTION:Categoría Mini Mixto  Provincial \nUb Bailén/C.P.D. Bailén \nC.A.B. Linares \nHora: 09:30 horas \nCategoría Cadete Provincial \nUb Bailén/C.P.D. Bailén \nLinabasket \nHora: 11:00 horas \nCategoría Junior Masculino Provincial \nUb Bailén/C.P.D. Bailén \nC.B. Ubeda \nHora: 12:30 horas \nUbicación:: Complejo !9 de Julio Pista Polideportiva “Juan Sanz Sánchez”
URL:https://ayto-bailen.com/eventos/baloncesto-37/
CATEGORIES:Deportes
ORGANIZER;CN="Delegaci%C3%B3n de Deportes":MAILTO:deportes@ayto-bailen.com
END:VEVENT
BEGIN:VEVENT
DTSTART;VALUE=DATE:20241116
DTEND;VALUE=DATE:20241124
DTSTAMP:20260423T122008
CREATED:20241113T162031Z
LAST-MODIFIED:20241113T162031Z
UID:23463-1731715200-1732406399@ayto-bailen.com
SUMMARY:XXIII Campeonato España Individual FEDC de Ajedrez
DESCRIPTION:
URL:https://ayto-bailen.com/eventos/xxiii-campeonato-espana-individual-fedc-de-ajedrez/
CATEGORIES:Deportes
ORGANIZER;CN="Delegaci%C3%B3n de Deportes":MAILTO:deportes@ayto-bailen.com
END:VEVENT
BEGIN:VEVENT
DTSTART;TZID=UTC:20241116T200000
DTEND;TZID=UTC:20241116T220000
DTSTAMP:20260423T122008
CREATED:20241026T134214Z
LAST-MODIFIED:20241104T154132Z
UID:23169-1731787200-1731794400@ayto-bailen.com
SUMMARY:Teatro Otoño Cultural Toc-Toc Besur
DESCRIPTION:Un grupo de pacientes coincide en la consulta de un prestigioso psiquiatra\, todos ellos aquejados de TOC (Trastorno Obsesivo Compulsivo). Pero como el médico se retrasa\, tendrán que esperarle intentando mantener a raya -o no tanto- sus manías\, impulsos\, convulsiones\, obsesiones y rituales\, creando situaciones disparatadas y divertidas. \nBESUR\, continúa apostando por el humor. En esta ocasión llevan a escena\, el día 16 de noviembre\, en la Casa de la Cultura\, a las 20 horas\, una adaptación de la obra teatral TOC-TOC\, del humorista francés Laurent Baffie y dirigida por Monsi del Águila. Una comedia que gira alrededor del TOC\, que\, aun tratándose de un tema serio\, se aborda desde el humor\, pretendiendo incluso ayudar a entender este trastorno y cómo afecta en el día a día de las personas que lo padecen.  \nVenta de entradas Casa de la Cultura. Precio 3 euros.
URL:https://ayto-bailen.com/eventos/teatro-otono-cultural-toc-toc-besur/
LOCATION:Salón de Actos de la Casa de la Cultura\, Calle de los Héroes de Bailén\, número 18\, Bailén\, Jaén\, 23710\, España
CATEGORIES:Evento Cultural
END:VEVENT
BEGIN:VEVENT
DTSTART;VALUE=DATE:20241117
DTEND;VALUE=DATE:20241118
DTSTAMP:20260423T122008
CREATED:20241113T153307Z
LAST-MODIFIED:20241113T153307Z
UID:23453-1731801600-1731887999@ayto-bailen.com
SUMMARY:Fútbol Sala
DESCRIPTION:Categoría Juvenil Masculino 2ª Andaluza \nC.D. Bailén 2008 F.S. \nPozo Alcón \nHora: 19:00 Horas \nUbicación:: Pabellón Municipal “28 de Febrero”
URL:https://ayto-bailen.com/eventos/futbol-sala-58/
CATEGORIES:Deportes
ORGANIZER;CN="Delegaci%C3%B3n de Deportes":MAILTO:deportes@ayto-bailen.com
END:VEVENT
BEGIN:VEVENT
DTSTART;VALUE=DATE:20241117
DTEND;VALUE=DATE:20241118
DTSTAMP:20260423T122008
CREATED:20241113T160929Z
LAST-MODIFIED:20241113T160929Z
UID:23457-1731801600-1731887999@ayto-bailen.com
SUMMARY:Fútbol
DESCRIPTION:Categoría Fútbol Infantil 3ª Andaluza \nRtvo\, de Bailén C.F. \nC.D. Jaén \nHora: 12:00 Horas \nCategoría Senior  1ª Andaluza \nC.D. Atco. Bailén 1808 \nAlcala C.F. \nHora:17:00 horas \nCategoría Senior  2ª Andaluza \nRtvo. de Bailén C.F. \nIbros C.F. \nHora:20:00 horas \n\nUbicación: Complejo Municipal “19 de Julio” Campo “Gregorio Manzano Ballesteros”
URL:https://ayto-bailen.com/eventos/futbol-92/
CATEGORIES:Deportes
ORGANIZER;CN="Delegaci%C3%B3n de Deportes":MAILTO:deportes@ayto-bailen.com
END:VEVENT
BEGIN:VEVENT
DTSTART;VALUE=DATE:20241117
DTEND;VALUE=DATE:20241118
DTSTAMP:20260423T122008
CREATED:20241113T161610Z
LAST-MODIFIED:20241113T161610Z
UID:23461-1731801600-1731887999@ayto-bailen.com
SUMMARY:Baloncesto
DESCRIPTION:Categoría Infantil  Provincial \nUb Bailén/C.P.D. Bailén \nLinabasket \nHora: 09:15 horas \nUbicación:: Complejo !9 de Julio Pista Polideportiva “Juan Sanz Sánchez”
URL:https://ayto-bailen.com/eventos/baloncesto-38/
CATEGORIES:Deportes
ORGANIZER;CN="Delegaci%C3%B3n de Deportes":MAILTO:deportes@ayto-bailen.com
END:VEVENT
BEGIN:VEVENT
DTSTART;VALUE=DATE:20241117
DTEND;VALUE=DATE:20241118
DTSTAMP:20260423T122008
CREATED:20241113T182408Z
LAST-MODIFIED:20241113T182408Z
UID:23466-1731801600-1731887999@ayto-bailen.com
SUMMARY:Liga de Fútbol Sala de Bailén Temporada 2024/25 Horarios 1ª Jornada
DESCRIPTION:
URL:https://ayto-bailen.com/eventos/liga-de-futbol-sala-de-bailen-temporada-2024-25-horarios-1a-jornada/
CATEGORIES:Deportes
ORGANIZER;CN="Delegaci%C3%B3n de Deportes":MAILTO:deportes@ayto-bailen.com
END:VEVENT
BEGIN:VEVENT
DTSTART;VALUE=DATE:20241123
DTEND;VALUE=DATE:20241124
DTSTAMP:20260423T122008
CREATED:20241120T183021Z
LAST-MODIFIED:20241120T183021Z
UID:23563-1732320000-1732406399@ayto-bailen.com
SUMMARY:Fútbol
DESCRIPTION:Categoría Alevin  3ª Andaluza \nRtvo. Bailen CF \nInter Jaén \nHora:11:00 horas \nCategoría Alevin  4ª Andaluza \nRtvo. Bailen CF \nC.D. Ibros \nHora:11:00 horas \nCategoría Alevin  3ª Andaluza \nRtvo. Bailen CF \nC.D. Martos \nHora:12:30 horas \nCategoría Juvenil 2ª  Andaluza \nRtvo. Bailen CF \nC.D. Ibros \nHora:19:00 horas \nUbicación: Complejo Municipal “19 de Julio” Campo “Gregorio Manzano Ballesteros”
URL:https://ayto-bailen.com/eventos/futbol-93/
CATEGORIES:Deportes
ORGANIZER;CN="Diputacion de Ja%C3%A9n":MAILTO:informacion@dipujaen.es
END:VEVENT
BEGIN:VEVENT
DTSTART;VALUE=DATE:20241123
DTEND;VALUE=DATE:20241124
DTSTAMP:20260423T122008
CREATED:20241120T183941Z
LAST-MODIFIED:20241120T183941Z
UID:23569-1732320000-1732406399@ayto-bailen.com
SUMMARY:Tenis de Mesa
DESCRIPTION:
URL:https://ayto-bailen.com/eventos/tenis-de-mesa-2/
CATEGORIES:Deportes
ORGANIZER;CN="Delegaci%C3%B3n de Deportes":MAILTO:deportes@ayto-bailen.com
END:VEVENT
BEGIN:VEVENT
DTSTART;VALUE=DATE:20241123
DTEND;VALUE=DATE:20241125
DTSTAMP:20260423T122008
CREATED:20241121T155051Z
LAST-MODIFIED:20241121T155051Z
UID:23574-1732320000-1732492799@ayto-bailen.com
SUMMARY:Liga de Fútbol Sala de Bailén Temporada 2024/25 Horarios 2ª Jornada
DESCRIPTION:
URL:https://ayto-bailen.com/eventos/liga-de-futbol-sala-de-bailen-temporada-2024-25-horarios-2a-jornada/
CATEGORIES:Deportes
ORGANIZER;CN="Delegaci%C3%B3n de Deportes":MAILTO:deportes@ayto-bailen.com
END:VEVENT
BEGIN:VEVENT
DTSTART;TZID=UTC:20241123T193000
DTEND;TZID=UTC:20241123T220000
DTSTAMP:20260423T122008
CREATED:20241115T165616Z
LAST-MODIFIED:20241115T190224Z
UID:23493-1732390200-1732399200@ayto-bailen.com
SUMMARY:X Concurso de Cante Flamenco "José Antonio Pérez de Castro Barrabás"
DESCRIPTION:Organizado por la Asociación Peña Flamenca «El Puchero». \nEntrada donativo 5 euros. \nApto para todos los públicos. \n 
URL:https://ayto-bailen.com/eventos/x-concurso-de-cante-flamenco-jose-antonio-perez-de-castro-barrabas/
LOCATION:Salón de Actos de la Casa de la Cultura\, Calle de los Héroes de Bailén\, número 18\, Bailén\, Jaén\, 23710\, España
CATEGORIES:Evento Cultural
END:VEVENT
BEGIN:VEVENT
DTSTART;VALUE=DATE:20241124
DTEND;VALUE=DATE:20241125
DTSTAMP:20260423T122008
CREATED:20241120T173339Z
LAST-MODIFIED:20241120T173339Z
UID:23551-1732406400-1732492799@ayto-bailen.com
SUMMARY:Fútbol Sala
DESCRIPTION:Categoría Senior Masculino 3ª Andaluza \nC.D. Bailén 2008 F.S. \nC.D. Vilches \nHora: 12:30 Horas \nCategoría Alevin  Masculino 2ª Andaluza \nC.D. Bailén 2008 F.S. \nC.P. Maristas A \nHora: 17:00 Horas \nCategoría Senior Masculino 2ª Andaluza \nC.D. Bailén 2008 F.S. \nLinares F.S. \nHora: 19:30 Horas \nUbicación:: Pabellón Municipal “28 de Febrero”
URL:https://ayto-bailen.com/eventos/futbol-sala-59/
CATEGORIES:Deportes
ORGANIZER;CN="Delegaci%C3%B3n de Deportes":MAILTO:deportes@ayto-bailen.com
END:VEVENT
BEGIN:VEVENT
DTSTART;VALUE=DATE:20241124
DTEND;VALUE=DATE:20241125
DTSTAMP:20260423T122008
CREATED:20241120T183645Z
LAST-MODIFIED:20241120T183645Z
UID:23567-1732406400-1732492799@ayto-bailen.com
SUMMARY:Fútbol
DESCRIPTION:Categoría Benjamín  4ª Andaluza \nRtvo. Bailen CF \nASOC. Lopera \nHora:10:30 horas \nCategoría Cadete 2ª Andaluza \nRtvo. Bailen CF \nC.D. Ibros \nHora:12:00 horas \nCategoría Senior  1ª Andaluza \nC.D. Atco. Bailén 1808 \nCD Iliturgi \nHora:19:00 horas \nUbicación: Complejo Municipal “19 de Julio” Campo “Gregorio Manzano Ballesteros”
URL:https://ayto-bailen.com/eventos/futbol-94/
CATEGORIES:Deportes
ORGANIZER;CN="Delegaci%C3%B3n de Deportes":MAILTO:deportes@ayto-bailen.com
END:VEVENT
BEGIN:VEVENT
DTSTART;TZID=UTC:20241129T203000
DTEND;TZID=UTC:20241129T223000
DTSTAMP:20260423T122008
CREATED:20241026T135024Z
LAST-MODIFIED:20241127T121251Z
UID:23171-1732912200-1732919400@ayto-bailen.com
SUMMARY:Cine - "La vida en una gota" de Pedro Lendínez
DESCRIPTION:Puedes ver el tráiler de la película en https://youtu.be/1TlozXiTFxc?si=YETDl0y3JLyWpTal \n 
URL:https://ayto-bailen.com/eventos/cine-la-vida-en-una-gota-de-pedro-lendinez/
LOCATION:Salón de Actos de la Casa de la Cultura\, Calle de los Héroes de Bailén\, número 18\, Bailén\, Jaén\, 23710\, España
CATEGORIES:Evento Cultural
END:VEVENT
BEGIN:VEVENT
DTSTART;VALUE=DATE:20241130
DTEND;VALUE=DATE:20241201
DTSTAMP:20260423T122008
CREATED:20241127T162734Z
LAST-MODIFIED:20241127T162734Z
UID:23661-1732924800-1733011199@ayto-bailen.com
SUMMARY:Fútbol Sala
DESCRIPTION:Categoría Juvenil  Masculino \nC.D. Bailén 2008 F.S. \nBeas de Segura F.S. \nHora: 19:00 Horas \nUbicación:: Pabellón Municipal “28 de Febrero”
URL:https://ayto-bailen.com/eventos/futbol-sala-60/
CATEGORIES:Deportes
ORGANIZER;CN="Delegaci%C3%B3n de Deportes":MAILTO:deportes@ayto-bailen.com
END:VEVENT
BEGIN:VEVENT
DTSTART;VALUE=DATE:20241130
DTEND;VALUE=DATE:20241201
DTSTAMP:20260423T122008
CREATED:20241127T163349Z
LAST-MODIFIED:20241127T163349Z
UID:23665-1732924800-1733011199@ayto-bailen.com
SUMMARY:Fútbol
DESCRIPTION:Categoría Fútbol Infantil  3ª Andaluza \nRtvo\, de Bailén C.F. \nC.D. Linares \nHora: 16:30 Horas \nCategoría Fútbol Juvenil 2ª Andaluza \nRtvo\, de Bailén C.F. \nC.D. Lonchu \nHora: 19:00 Horas \nUbicación: Complejo Municipal “19 de Julio” Campo “Gregorio Manzano Ballesteros”
URL:https://ayto-bailen.com/eventos/futbol-95/
CATEGORIES:Deportes
ORGANIZER;CN="Delegaci%C3%B3n de Deportes":MAILTO:deportes@ayto-bailen.com
END:VEVENT
BEGIN:VEVENT
DTSTART;VALUE=DATE:20241130
DTEND;VALUE=DATE:20241201
DTSTAMP:20260423T122008
CREATED:20241127T163944Z
LAST-MODIFIED:20241127T163944Z
UID:23667-1732924800-1733011199@ayto-bailen.com
SUMMARY:Baloncesto
DESCRIPTION:Categoría Juvenil  Provincial \nUb Bailén/C.P.D. Bailén \nC.B. Marmolejo \nHora: 10:00  horas \nCategoría Cadete  Provincial \nUb Bailén/C.P.D. Bailén \nC.B.Toxiria \nHora: 11:30 horas \nUbicación:: Complejo !9 de Julio Pista Polideportiva “Juan Sanz Sánchez
URL:https://ayto-bailen.com/eventos/baloncesto-39/
CATEGORIES:Deportes
ORGANIZER;CN="Delegaci%C3%B3n de Deportes":MAILTO:deportes@ayto-bailen.com
END:VEVENT
BEGIN:VEVENT
DTSTART;TZID=UTC:20241130T200000
DTEND;TZID=UTC:20241130T220000
DTSTAMP:20260423T122008
CREATED:20241115T171055Z
LAST-MODIFIED:20241115T171055Z
UID:23495-1732996800-1733004000@ayto-bailen.com
SUMMARY:Teatro\, Otoño Cultural "La Maleta de Mi Abuela" de Nati Villar
DESCRIPTION:Entrada 1 euro \nApto para todos los públicos
URL:https://ayto-bailen.com/eventos/teatro-otono-cultural-la-maleta-de-mi-abuela-de-nati-villar/
LOCATION:Salón de Actos de la Casa de la Cultura\, Calle de los Héroes de Bailén\, número 18\, Bailén\, Jaén\, 23710\, España
CATEGORIES:Evento Cultural
END:VEVENT
BEGIN:VEVENT
DTSTART;VALUE=DATE:20241201
DTEND;VALUE=DATE:20241202
DTSTAMP:20260423T122008
CREATED:20241127T162857Z
LAST-MODIFIED:20241127T162857Z
UID:23663-1733011200-1733097599@ayto-bailen.com
SUMMARY:Fútbol Sala
DESCRIPTION:Categoría Senior Masculino 2ª Andaluza \nC.D. Bailén 2008 F.S. \nC.D. Atco. Mengibar \nHora: 19:30 Horas \nUbicación:: Pabellón Municipal “28 de Febrero”
URL:https://ayto-bailen.com/eventos/futbol-sala-61/
CATEGORIES:Deportes
ORGANIZER;CN="Delegaci%C3%B3n de Deportes":MAILTO:deportes@ayto-bailen.com
END:VEVENT
BEGIN:VEVENT
DTSTART;VALUE=DATE:20241201
DTEND;VALUE=DATE:20241202
DTSTAMP:20260423T122008
CREATED:20241127T164933Z
LAST-MODIFIED:20241127T164933Z
UID:23669-1733011200-1733097599@ayto-bailen.com
SUMMARY:Baloncesto
DESCRIPTION:Categoría Infantil  Provincial \nUb Bailén/C.P.D. Bailén \nC.B. Toxiria \nHora: 10:30 horas \nUbicación:: Complejo !9 de Julio Pista Polideportiva “Juan Sanz Sánchez
URL:https://ayto-bailen.com/eventos/baloncesto-40/
CATEGORIES:Deportes
ORGANIZER;CN="Delegaci%C3%B3n de Deportes":MAILTO:deportes@ayto-bailen.com
END:VEVENT
END:VCALENDAR