BEGIN:VCALENDAR
VERSION:2.0
PRODID:-//Ayto Bailén - ECPv6.15.20//NONSGML v1.0//EN
CALSCALE:GREGORIAN
METHOD:PUBLISH
X-ORIGINAL-URL:https://ayto-bailen.com
X-WR-CALDESC:Eventos para Ayto Bailén
REFRESH-INTERVAL;VALUE=DURATION:PT1H
X-Robots-Tag:noindex
X-PUBLISHED-TTL:PT1H
BEGIN:VTIMEZONE
TZID:UTC
BEGIN:STANDARD
TZOFFSETFROM:+0000
TZOFFSETTO:+0000
TZNAME:UTC
DTSTART:20230101T000000
END:STANDARD
END:VTIMEZONE
BEGIN:VEVENT
DTSTART;TZID=UTC:20240920T194500
DTEND;TZID=UTC:20240920T220000
DTSTAMP:20260423T134325
CREATED:20240905T144459Z
LAST-MODIFIED:20240905T145829Z
UID:22323-1726861500-1726869600@ayto-bailen.com
SUMMARY:XXV CARRERA SANTUARIO VIRGEN DE ZOCUECA 2024
DESCRIPTION:
URL:https://ayto-bailen.com/eventos/xxv-carrera-santuario-virgen-de-zocueca-2024/
CATEGORIES:Deportes
ORGANIZER;CN="Delegaci%C3%B3n de Deportes":MAILTO:deportes@ayto-bailen.com
END:VEVENT
BEGIN:VEVENT
DTSTART;VALUE=DATE:20240921
DTEND;VALUE=DATE:20240922
DTSTAMP:20260423T134325
CREATED:20240917T160028Z
LAST-MODIFIED:20240917T160028Z
UID:22548-1726876800-1726963199@ayto-bailen.com
SUMMARY:Fútbol Sala
DESCRIPTION:Categoría Senior 3ª División  Masculino \nC.D. Bailén 2008 F.S. \nC.D. Dama de Baza B \nHora: 17:30 Horas \nUbicación:: Pabellón Municipal “28 de Febrero”
URL:https://ayto-bailen.com/eventos/futbol-sala-48/
CATEGORIES:Deportes
ORGANIZER;CN="Delegaci%C3%B3n de Deportes":MAILTO:deportes@ayto-bailen.com
END:VEVENT
BEGIN:VEVENT
DTSTART;VALUE=DATE:20240921
DTEND;VALUE=DATE:20240922
DTSTAMP:20260423T134325
CREATED:20240917T160447Z
LAST-MODIFIED:20240917T160447Z
UID:22550-1726876800-1726963199@ayto-bailen.com
SUMMARY:Fútbol Femenino
DESCRIPTION:Categoría Femenino Amistoso \nC.D. Atco. Bailén 1808 \nHispania de Torredelcampo \nHora:17:00 Horas \nCategoría Infantil 3ª Provincial \nRtvo. de Bailén C.F. \nVillargordo C.F. \nHora: 19:00 Horas \nUbicación: Complejo Municipal “19 de Julio” Campo “Gregorio Manzano Ballesteros”
URL:https://ayto-bailen.com/eventos/futbol-femenino/
CATEGORIES:Deportes
ORGANIZER;CN="Delegaci%C3%B3n de Deportes":MAILTO:deportes@ayto-bailen.com
END:VEVENT
BEGIN:VEVENT
DTSTART;VALUE=DATE:20240922
DTEND;VALUE=DATE:20240923
DTSTAMP:20260423T134325
CREATED:20240917T160745Z
LAST-MODIFIED:20240917T160745Z
UID:22552-1726963200-1727049599@ayto-bailen.com
SUMMARY:Fútbol
DESCRIPTION:Categoría Senior 1ª Andaluza \nC.D. Atco. Bailén 1808 \nU.D. Cazorla \nHora:12:00 Horas \nCategoría Benjamín 4ª Andaluza \nRtvo. de Bailén C.F. \nC.D. Lonchu B \nHora: 19:00 Horas \nUbicación: Complejo Municipal “19 de Julio” Campo “Gregorio Manzano Ballesteros”
URL:https://ayto-bailen.com/eventos/futbol-77/
CATEGORIES:Deportes
ORGANIZER;CN="Diputacion de Ja%C3%A9n":MAILTO:informacion@dipujaen.es
END:VEVENT
BEGIN:VEVENT
DTSTART;TZID=UTC:20240922T200000
DTEND;TZID=UTC:20240922T230000
DTSTAMP:20260423T134325
CREATED:20240917T051142Z
LAST-MODIFIED:20240917T051142Z
UID:22503-1727035200-1727046000@ayto-bailen.com
SUMMARY:Noche Goyesca
DESCRIPTION:Con motivo de la Recreación de la Batalla de Baylén 2024\, como antesala al evento\, tiene lugar este próximo domingo 22 de septiembre la «Noche Goyesca» \nUna velada ambientada en la época napoleónica\, donde habrá un concierto de música por la Unión Musical Bailenense y bailes goyescos a cargo de la Asociación Cultural Amanecer Flamenco. \nComenzará a las 20:00 horas y tendrá lugar en la Plaza Ejército Español\, conocida como «El Cantarico». \nLa actividad está organizada por el Ayuntamiento de Bailén y coorganizada por la Asociación Histórico-Cultura Napoleónica Voluntarios de la Batalla de Bailén
URL:https://ayto-bailen.com/eventos/noche-goyesca-2/
LOCATION:Plaza Ejército Español\, Plaza Ejército Español\, Bailén\, Jaén\, 23710\, España
CATEGORIES:Fiesta
ORGANIZER;CN="Ayuntamiento de Bail%C3%A9n":MAILTO:informacion@ayto-bailen.com
END:VEVENT
BEGIN:VEVENT
DTSTART;VALUE=DATE:20240927
DTEND;VALUE=DATE:20240930
DTSTAMP:20260423T134325
CREATED:20240905T092706Z
LAST-MODIFIED:20240905T092706Z
UID:22314-1727395200-1727654399@ayto-bailen.com
SUMMARY:Romería de la Virgen de Zocueca del 27 al 29 de septiembre de 2024
DESCRIPTION:Romería de la Virgen de Zocueca del 27 al 29 de septiembre de 2024 \nBailén celebra la Romería de su patrona el 29 de septiembre y\, desde el viernes hasta el domingo se puede disfrutar de multitud de actividades para toda la familia. Este año\, en especial\, se han organizado en la Carpa municipal de la juventud tres días de música DJ’s en directo y con entrada gratuita. \nY el sábado por la noche actuación del grupo «Ochentando»  también en la Aldea de Zocueca \nTienen la información de todas las actividades en el siguiente enlace: \nPROGRAMA DE ACTOS ROMERÍA 2024 (1)\nCaseta Municipal de la Juventud en la Romería de la Virgen de Zocueca del 27 al 29 de septiembre de 2024 – Ayto Bailén (ayto-bailen.com)
URL:https://ayto-bailen.com/eventos/romeria-de-la-virgen-de-zocueca-del-27-al-29-de-septiembre-de-2024/
CATEGORIES:Fiesta
END:VEVENT
BEGIN:VEVENT
DTSTART;VALUE=DATE:20240927
DTEND;VALUE=DATE:20240928
DTSTAMP:20260423T134325
CREATED:20240925T135443Z
LAST-MODIFIED:20240925T135443Z
UID:22645-1727395200-1727481599@ayto-bailen.com
SUMMARY:Fútbol
DESCRIPTION:Categoría Alevin  3ª Andaluza \nRtvo. de Bailén C.F. \nC.D. Betis Iliturgitano B \nHora: 16:30 horas \nCategoría Benjamin  3ª Andaluza \nRtvo. de Bailén C.F. \nC.D. Betis Iliturgitano B \nHora: 16:30 horas \nCategoría Infantil 3ª Andaluza \nRtvo. de Bailén C.F. \nUrgavona \nHora: 18:00 horas \nUbicación: Complejo Municipal “19 de Julio” Campo “Gregorio Manzano Ballesteros”
URL:https://ayto-bailen.com/eventos/futbol-80/
CATEGORIES:Deportes
ORGANIZER;CN="Delegaci%C3%B3n de Deportes":MAILTO:deportes@ayto-bailen.com
END:VEVENT
BEGIN:VEVENT
DTSTART;VALUE=DATE:20240928
DTEND;VALUE=DATE:20240929
DTSTAMP:20260423T134325
CREATED:20240925T134827Z
LAST-MODIFIED:20240925T134827Z
UID:22641-1727481600-1727567999@ayto-bailen.com
SUMMARY:Fútbol
DESCRIPTION:Categoría Cadete  2ª Andaluza \nRtvo. de Bailén C.F. \nC.D. Jaén \nHora: 10:00 horas \nCategoría Alevin 4ª Andaluza \nRtvo. de Bailén C.F. \nC.D. Ubeda Viva A \nHora: 12:00 horas \nCategoría Prebenjamin  3ª Andaluza \nRtvo. de Bailén C.F. \nC.D. Alto Castillo Jaén \nHora: 12:30 horas \nCategoría Juvenil 2ª  Andaluza \nRtvo. de Bailén C.F. \nAtco Mancha Real \nHora: 18:30 horas \nUbicación: Complejo Municipal “19 de Julio” Campo “Gregorio Manzano Ballesteros”
URL:https://ayto-bailen.com/eventos/futbol-78/
CATEGORIES:Deportes
ORGANIZER;CN="Delegaci%C3%B3n de Deportes":MAILTO:deportes@ayto-bailen.com
END:VEVENT
BEGIN:VEVENT
DTSTART;VALUE=DATE:20240929
DTEND;VALUE=DATE:20240930
DTSTAMP:20260423T134325
CREATED:20240925T135012Z
LAST-MODIFIED:20240925T135012Z
UID:22643-1727568000-1727654399@ayto-bailen.com
SUMMARY:Fútbol
DESCRIPTION:Categoría Senior  2ª Andaluza \nRtvo. de Bailén C.F. \nBaños C.D. 2022 \nHora: 19:00 horas \nUbicación: Complejo Municipal “19 de Julio” Campo “Gregorio Manzano Ballesteros”
URL:https://ayto-bailen.com/eventos/futbol-79/
CATEGORIES:Deportes
ORGANIZER;CN="Delegaci%C3%B3n de Deportes":MAILTO:deportes@ayto-bailen.com
END:VEVENT
BEGIN:VEVENT
DTSTART;VALUE=DATE:20241004
DTEND;VALUE=DATE:20241007
DTSTAMP:20260423T134325
CREATED:20240916T043154Z
LAST-MODIFIED:20240918T045628Z
UID:22474-1728000000-1728259199@ayto-bailen.com
SUMMARY:Recreación de la Batalla de Baylén 2024
DESCRIPTION:El fin de semana del 4 al 6 de octubre\, Bailén se traslada hasta la época napoleónica para recrear unos de los acontecimientos históricos más relevantes de la historia de nuestro país\, la primera derrota en campo abierto a las invencibles tropas napoleónicas. \nCon actividades previas a ese fin de semana\, como por ejemplo\, la «Noche Goyesca» el 22 de septiembre\, podrás vivir en persona este periodo tan singular. \nHemos preparado actividades como son escaramuzas\, en las que el ejército francés y español se enfrentarán por las calles de la localidad\, el Mercado de la Independencia\, con venta de productos artesanales\, menús de época y una cena temática para el sábado 5 de octubre\, visitas guiadas en tren turístico por la ciudad\, al Museo de la Batalla de Bailén y por el centro del municipio\, bailes de época\, etc. y por supuesto\, la Recreación el domingo 6 de octubre a las 11:30 horas. \nPrograma de la Recreación de la Batalla de Baylén 2024 \n \n \n \n 
URL:https://ayto-bailen.com/eventos/recreacion-de-la-batalla-de-baylen-2024/
LOCATION:Bailén\, Bailén
CATEGORIES:Fiesta
ORGANIZER;CN="Ayuntamiento de Bail%C3%A9n":MAILTO:informacion@ayto-bailen.com
END:VEVENT
BEGIN:VEVENT
DTSTART;VALUE=DATE:20241005
DTEND;VALUE=DATE:20241006
DTSTAMP:20260423T134325
CREATED:20241002T131821Z
LAST-MODIFIED:20241002T132014Z
UID:22745-1728086400-1728172799@ayto-bailen.com
SUMMARY:Fútbol
DESCRIPTION:Categoría Fútbol 7 Femenino Amistoso \nC.D. Atco. Bailén 1808 \nC.D. Hispania \nHora: 10:00 Horas \nCategoría Fútbol Infantil 3ª Andaluza \nRTvo\, de Bailén C.F. \nC.D. Hispania \nHora: 11:30 Horas \nCategoría Fútbol 7 Benjamin 4ª Andaluza \nRTvo\, de Bailén C.F. \nVillargordo C.F. \nHora: 19:00 Horas \nUbicación: Complejo Municipal “19 de Julio” Campo “Gregorio Manzano Ballesteros”
URL:https://ayto-bailen.com/eventos/futbol-sala-49/
CATEGORIES:Deportes
ORGANIZER;CN="Delegaci%C3%B3n de Deportes":MAILTO:deportes@ayto-bailen.com
END:VEVENT
BEGIN:VEVENT
DTSTART;VALUE=DATE:20241005
DTEND;VALUE=DATE:20241006
DTSTAMP:20260423T134325
CREATED:20241002T131907Z
LAST-MODIFIED:20241002T131907Z
UID:22747-1728086400-1728172799@ayto-bailen.com
SUMMARY:Fútbol Sala
DESCRIPTION:Categoría Alevin  Masculino 2ª Andaluza \nC.D. Bailén 2008 F.S. \nC.D. Ubeda Viva \nHora: 18:30 Horas \nComplejo 19 de Julio Pista Polideportiva “Club Ali-Up Bailén”
URL:https://ayto-bailen.com/eventos/futbol-sala-50/
CATEGORIES:Deportes
ORGANIZER;CN="Delegaci%C3%B3n de Deportes":MAILTO:deportes@ayto-bailen.com
END:VEVENT
BEGIN:VEVENT
DTSTART;TZID=UTC:20241005T210000
DTEND;TZID=UTC:20241005T233000
DTSTAMP:20260423T134325
CREATED:20240917T052425Z
LAST-MODIFIED:20240917T052911Z
UID:22514-1728162000-1728171000@ayto-bailen.com
SUMMARY:Cena temática napoleónica
DESCRIPTION:  \n \n  \n 
URL:https://ayto-bailen.com/eventos/22514/
LOCATION:Caseta de los Ceramistas\, Calle Brigada "Guzmán el Bueno" X\, Bailén\, Jaén\, 23710\, España
CATEGORIES:Fiesta,Otros Eventos
ORGANIZER;CN="Ayuntamiento de Bail%C3%A9n":MAILTO:informacion@ayto-bailen.com
END:VEVENT
BEGIN:VEVENT
DTSTART;VALUE=DATE:20241006
DTEND;VALUE=DATE:20241007
DTSTAMP:20260423T134325
CREATED:20241002T132538Z
LAST-MODIFIED:20241002T132538Z
UID:22750-1728172800-1728259199@ayto-bailen.com
SUMMARY:Fútbol
DESCRIPTION:Categoría Veteranos Fútbol 11 \nC.D. Veteranos Bailen 2009 \nC.D. Jaén \nHora: 10:00 Horas \nCategoría Senior  1ª Andaluza \nC.D. Atco. Bailén 1808 \nC.D. Rus \nHora: 18:30 horas \nUbicación: Complejo Municipal “19 de Julio” Campo “Gregorio Manzano Ballesteros”
URL:https://ayto-bailen.com/eventos/futbol-81/
CATEGORIES:Deportes
ORGANIZER;CN="Delegaci%C3%B3n de Deportes":MAILTO:deportes@ayto-bailen.com
END:VEVENT
BEGIN:VEVENT
DTSTART;VALUE=DATE:20241006
DTEND;VALUE=DATE:20241007
DTSTAMP:20260423T134325
CREATED:20241002T132753Z
LAST-MODIFIED:20241002T132753Z
UID:22752-1728172800-1728259199@ayto-bailen.com
SUMMARY:Baloncesto
DESCRIPTION:Categoría Senior  Provincial \nUb Bailén/C.P.D. Bailén \nC.D. Ubeda Viva \nHora: 17:30 horas \nUbicación:: Complejo !9 de Julio Pista Polideportiva “Juan Sanz Sánchez”
URL:https://ayto-bailen.com/eventos/baloncesto-31/
CATEGORIES:Deportes
ORGANIZER;CN="Delegaci%C3%B3n de Deportes":MAILTO:deportes@ayto-bailen.com
END:VEVENT
BEGIN:VEVENT
DTSTART;VALUE=DATE:20241006
DTEND;VALUE=DATE:20241007
DTSTAMP:20260423T134325
CREATED:20241002T132950Z
LAST-MODIFIED:20241002T132950Z
UID:22754-1728172800-1728259199@ayto-bailen.com
SUMMARY:Fútbol Sala
DESCRIPTION:Categoría Cadete  Masculino 2ª Andaluza \nC.D. Bailén 2008 F.S. \nSan Felipe Neri C.D. \nHora: 17:00 Horas \nComplejo 19 de Julio Pista Polideportiva “Club Ali-Up Bailén”
URL:https://ayto-bailen.com/eventos/futbol-sala-51/
CATEGORIES:Deportes
ORGANIZER;CN="Delegaci%C3%B3n de Deportes":MAILTO:deportes@ayto-bailen.com
END:VEVENT
BEGIN:VEVENT
DTSTART;TZID=UTC:20241006T090000
DTEND;TZID=UTC:20241006T140000
DTSTAMP:20260423T134325
CREATED:20241002T125609Z
LAST-MODIFIED:20241002T125609Z
UID:22741-1728205200-1728223200@ayto-bailen.com
SUMMARY:I Liga Superbaskatet para personas con discapacidad intelectual
DESCRIPTION:1ª Jornada \n \n \nUbicación:: Complejo !9 de Julio Pista Polideportiva “Juan Sanz Sánchez”
URL:https://ayto-bailen.com/eventos/i-liga-superbaskatet-para-personas-con-discapacidad-intelectual/
CATEGORIES:Deportes
ORGANIZER;CN="Delegaci%C3%B3n de Deportes":MAILTO:deportes@ayto-bailen.com
END:VEVENT
BEGIN:VEVENT
DTSTART;VALUE=DATE:20241011
DTEND;VALUE=DATE:20241014
DTSTAMP:20260423T134325
CREATED:20241010T093118Z
LAST-MODIFIED:20241010T093118Z
UID:22867-1728604800-1728863999@ayto-bailen.com
SUMMARY:Fiestas del Barrio del Pilar del 11 al 13 de octubre de 2024
DESCRIPTION:  \nAmplio abanico de actividades y propuestas para las tradicionales Fiestas del Pilar – Ayto Bailén (ayto-bailen.com)
URL:https://ayto-bailen.com/eventos/fiestas-del-barrio-del-pilar-del-11-al-13-de-octubre-de-2024/
CATEGORIES:Fiesta
END:VEVENT
BEGIN:VEVENT
DTSTART;VALUE=DATE:20241012
DTEND;VALUE=DATE:20241013
DTSTAMP:20260423T134325
CREATED:20241009T082455Z
LAST-MODIFIED:20241009T082455Z
UID:22834-1728691200-1728777599@ayto-bailen.com
SUMMARY:Balonmano
DESCRIPTION:Categoría Balonmano Senior Masculino \nC.D. Baecula . \nBm. Mesquita \nHora: 19:00 Horas \nUbicación:: Pabellón Municipal “28 de Febrero”
URL:https://ayto-bailen.com/eventos/balonmano-2/
CATEGORIES:Deportes
ORGANIZER;CN="Delegaci%C3%B3n de Deportes":MAILTO:deportes@ayto-bailen.com
END:VEVENT
BEGIN:VEVENT
DTSTART;VALUE=DATE:20241012
DTEND;VALUE=DATE:20241013
DTSTAMP:20260423T134325
CREATED:20241009T090935Z
LAST-MODIFIED:20241009T090935Z
UID:22839-1728691200-1728777599@ayto-bailen.com
SUMMARY:Fútbol
DESCRIPTION:Categoría Fútbol Infantil 3ª Andaluza \nRtvo\, de Bailén C.F. \nC.D Betis Iliturgitano \nHora: 12:00 Horas \nCategoría Fútbol Alevin 4ª Andaluza \nRtvo\, de Bailén C.F. \nC.D Rus \nHora: 16:00 Horas \nCategoría Fútbol Prebenjamin 3ª Andaluza \nRtvo\, de Bailén C.F. \nReal Jaen C.F \nHora: 16:00 Horas \nCategoría Fútbol Juvenil 2ª Andaluza \nRtvo\, de Bailén C.F. \nC.D Betis Iliturgitano \nHora: 18:00 Horas \nCategoría Fútbol Juvenil 3ª Andaluza \nRtvo\, de Bailén C.F. \nAtco Porcuna \nHora: 20:00 Horas \nUbicación: Complejo Municipal “19 de Julio” Campo “Gregorio Manzano Ballesteros”
URL:https://ayto-bailen.com/eventos/futbol-82/
CATEGORIES:Deportes
ORGANIZER;CN="Delegaci%C3%B3n de Deportes":MAILTO:deportes@ayto-bailen.com
END:VEVENT
BEGIN:VEVENT
DTSTART;VALUE=DATE:20241012
DTEND;VALUE=DATE:20241013
DTSTAMP:20260423T134325
CREATED:20241009T092924Z
LAST-MODIFIED:20241009T092924Z
UID:22843-1728691200-1728777599@ayto-bailen.com
SUMMARY:Baloncesto
DESCRIPTION:Categoría Mini Basket  Provincial \nUb Bailén/C.P.D. Bailén \nLinabasket \nHora: 09:30 horas \nCategoría Infantil Mixto Provincial \nUb Bailén/C.P.D. Bailén \nC.A.B. Linares \nHora: 11:00 horas \nCategoría Junior Masculino Provincial \nUb Bailén/C.P.D. Bailén \nC.B. Baeza \nHora: 12:30 horas \nUbicación:: Complejo 19 de Julio Pista Polideportiva “Juan Sanz Sánchez”
URL:https://ayto-bailen.com/eventos/baloncesto-32/
CATEGORIES:Deportes
ORGANIZER;CN="Delegaci%C3%B3n de Deportes":MAILTO:deportes@ayto-bailen.com
END:VEVENT
BEGIN:VEVENT
DTSTART;VALUE=DATE:20241013
DTEND;VALUE=DATE:20241014
DTSTAMP:20260423T134325
CREATED:20241009T082729Z
LAST-MODIFIED:20241009T082729Z
UID:22836-1728777600-1728863999@ayto-bailen.com
SUMMARY:Fútbol Sala
DESCRIPTION:Categoría Senior  Masculino 2ª Andaluza \nC.D. Bailén 2008 F.S. \nLopera F.S. \nHora: 12:30 Horas \nCategoría Senior Masculino 3ª División \nC.D. Bailén 2008 F.S. \nC.D. Albolote \nHora: 18:30 Horas \nUbicación:: Pabellón Municipal “28 de Febrero”
URL:https://ayto-bailen.com/eventos/futbol-sala-52/
CATEGORIES:Deportes
ORGANIZER;CN="Delegaci%C3%B3n de Deportes":MAILTO:deportes@ayto-bailen.com
END:VEVENT
BEGIN:VEVENT
DTSTART;VALUE=DATE:20241013
DTEND;VALUE=DATE:20241014
DTSTAMP:20260423T134325
CREATED:20241009T092031Z
LAST-MODIFIED:20241009T092031Z
UID:22841-1728777600-1728863999@ayto-bailen.com
SUMMARY:Fútbol
DESCRIPTION:Categoría Fútbol 7 Alevin 3ª Andaluza \nRtvo\, de Bailén C.F. \nC.D Guarroman \nHora: 11:00 Horas \nCategoría Fútbol Cadete 2ª Andaluza \nRtvo\, de Bailén C.F. \nC.D Betis Iliturgitano a \nHora: 1230 Horas \nCategoría Fútbol 7 Benjamin 3ª Andaluza \nRtvo\, de Bailén C.F. \nC.D. Villargordo \nHora: 17:00 Horas \nLiga Fomento Femenino Infantil/Alevin Fútbol 7 (Jaén) Grupo 2 Andaluza \nC.D. Atco. Bailen 1808 \nSierra de Segura C.F. \nHora: 17:30 Horas \nUbicación: Complejo Municipal “19 de Julio” Campo “Gregorio Manzano Ballesteros” \n 
URL:https://ayto-bailen.com/eventos/futbol-83/
CATEGORIES:Deportes
ORGANIZER;CN="Delegaci%C3%B3n de Deportes":MAILTO:deportes@ayto-bailen.com
END:VEVENT
BEGIN:VEVENT
DTSTART;VALUE=DATE:20241019
DTEND;VALUE=DATE:20241020
DTSTAMP:20260423T134325
CREATED:20241016T124930Z
LAST-MODIFIED:20241016T124930Z
UID:22968-1729296000-1729382399@ayto-bailen.com
SUMMARY:Fútbol
DESCRIPTION:Categoría Fútbol Infantil  3ª Andaluza \nRtvo\, de Bailén C.F. \nC.D. Ubeda Viva B \nHora: 10:00 Horas \nUbicación: Complejo Municipal “19 de Julio” Campo “Gregorio Manzano Ballesteros”
URL:https://ayto-bailen.com/eventos/futbol-84/
CATEGORIES:Deportes
ORGANIZER;CN="Delegaci%C3%B3n de Deportes":MAILTO:deportes@ayto-bailen.com
END:VEVENT
BEGIN:VEVENT
DTSTART;VALUE=DATE:20241019
DTEND;VALUE=DATE:20241020
DTSTAMP:20260423T134325
CREATED:20241016T130154Z
LAST-MODIFIED:20241016T130154Z
UID:22972-1729296000-1729382399@ayto-bailen.com
SUMMARY:Baloncesto
DESCRIPTION:Categoría Senior  Provincial \nUb Bailén/C.P.D. Bailén \nC.D. Villargordo \nHora: 18:00 horas \nUbicación:: Complejo !9 de Julio Pista Polideportiva “Juan Sanz Sánchez”
URL:https://ayto-bailen.com/eventos/baloncesto-33/
CATEGORIES:Deportes
ORGANIZER;CN="Delegaci%C3%B3n de Deportes":MAILTO:deportes@ayto-bailen.com
END:VEVENT
BEGIN:VEVENT
DTSTART;VALUE=DATE:20241020
DTEND;VALUE=DATE:20241021
DTSTAMP:20260423T134325
CREATED:20241016T124535Z
LAST-MODIFIED:20241016T124535Z
UID:22966-1729382400-1729468799@ayto-bailen.com
SUMMARY:Fútbol Sala
DESCRIPTION:Categoría Juvenil Masculino 2ª Andaluza \nC.D. Bailén 2008 F.S. \nLinares Deportivo \nHora: 18:30 Horas \nUbicación:: Pabellón Municipal “28 de Febrero”
URL:https://ayto-bailen.com/eventos/futbol-sala-53/
CATEGORIES:Deportes
ORGANIZER;CN="Delegaci%C3%B3n de Deportes":MAILTO:deportes@ayto-bailen.com
END:VEVENT
BEGIN:VEVENT
DTSTART;VALUE=DATE:20241020
DTEND;VALUE=DATE:20241021
DTSTAMP:20260423T134325
CREATED:20241016T125739Z
LAST-MODIFIED:20241016T125739Z
UID:22970-1729382400-1729468799@ayto-bailen.com
SUMMARY:Fútbol
DESCRIPTION:Categoría Senior  1ª Andaluza \nC.D. Atco. Bailén 1808 \nAtco. Jaén \nHora:12:00 horas \n\nCategoría Fútbol 7 Benjamin 3ª Andaluza \nRtvo\, de Bailén C.F. \nAtco. Mengibar \nHora: 16:00 Horas \nCategoría Fútbol Senior 2ª Andaluza \nRtvo\, de Bailén C.F. \nUtica \nHora: 18:00 Horas \n\nUbicación: Complejo Municipal “19 de Julio” Campo “Gregorio Manzano Ballesteros” \n\n 
URL:https://ayto-bailen.com/eventos/futbol-85/
CATEGORIES:Deportes
ORGANIZER;CN="Delegaci%C3%B3n de Deportes":MAILTO:deportes@ayto-bailen.com
END:VEVENT
BEGIN:VEVENT
DTSTART;TZID=UTC:20241025T180000
DTEND;TZID=UTC:20241025T190000
DTSTAMP:20260423T134325
CREATED:20241017T072954Z
LAST-MODIFIED:20241017T072954Z
UID:22904-1729879200-1729882800@ayto-bailen.com
SUMMARY:Teatro infantil "Ponte en mi lugar"
DESCRIPTION:Representación teatral para el público infantil. ‘Ponte en mi lugar’\, será puesta en escena por la compañía ‘Small Clowns’ en las instalaciones de la Biblioteca Municipal de Bailén.\nLa obra está destinada a niños y niñas de entre 4 a 12 años de edad (los menores de 7 deberán ir acompañados de un adulto). El aforo será limitado\, por lo que las inscripciones se harán de forma presencial en la Biblioteca Municipal a partir del próximo día 21 de octubre\, a partir de las 9.30 horas.
URL:https://ayto-bailen.com/eventos/teatro-infantil-ponte-en-mi-lugar/
LOCATION:Biblioteca Municipal Baécula
CATEGORIES:Espectaculo,Evento Cultural
ORGANIZER;CN="Ayuntamiento de Bail%C3%A9n":MAILTO:informacion@ayto-bailen.com
END:VEVENT
BEGIN:VEVENT
DTSTART;VALUE=DATE:20241026
DTEND;VALUE=DATE:20241028
DTSTAMP:20260423T134325
CREATED:20240917T155256Z
LAST-MODIFIED:20240917T155256Z
UID:22545-1729900800-1730073599@ayto-bailen.com
SUMMARY:VIII Campeonato de Andalucía de Petanca  FANDDI 2024
DESCRIPTION:
URL:https://ayto-bailen.com/eventos/viii-campeonato-de-andalucia-de-petanca-fanddi-2024/
CATEGORIES:Deportes
ORGANIZER;CN="Delegaci%C3%B3n de Deportes":MAILTO:deportes@ayto-bailen.com
END:VEVENT
BEGIN:VEVENT
DTSTART;VALUE=DATE:20241026
DTEND;VALUE=DATE:20241027
DTSTAMP:20260423T134325
CREATED:20241023T131251Z
LAST-MODIFIED:20241023T131251Z
UID:23110-1729900800-1729987199@ayto-bailen.com
SUMMARY:Fútbol Sala
DESCRIPTION:Categoría Alevin Masculino \nC.D. Bailén 2008 F.S. \nC.V. Avanza \nHora: 11:00 Horas \nCategoría Cadete Masculino \nC.D. Bailén 2008 F.S. \nC.V. Avanza \nHora: 12:30 Horas \nCategoría Senior Masculino 3ª División \nC.D. Bailén 2008 F.S. \nU.D. Torredelmar \nHora: 17:30 Horas \nUbicación:: Pabellón Municipal “28 de Febrero”
URL:https://ayto-bailen.com/eventos/futbol-sala-54/
CATEGORIES:Deportes
ORGANIZER;CN="Delegaci%C3%B3n de Deportes":MAILTO:deportes@ayto-bailen.com
END:VEVENT
END:VCALENDAR