BEGIN:VCALENDAR
VERSION:2.0
PRODID:-//Ayto Bailén - ECPv6.15.20//NONSGML v1.0//EN
CALSCALE:GREGORIAN
METHOD:PUBLISH
X-WR-CALNAME:Ayto Bailén
X-ORIGINAL-URL:https://ayto-bailen.com
X-WR-CALDESC:Eventos para Ayto Bailén
REFRESH-INTERVAL;VALUE=DURATION:PT1H
X-Robots-Tag:noindex
X-PUBLISHED-TTL:PT1H
BEGIN:VTIMEZONE
TZID:UTC
BEGIN:STANDARD
TZOFFSETFROM:+0000
TZOFFSETTO:+0000
TZNAME:UTC
DTSTART:20220101T000000
END:STANDARD
END:VTIMEZONE
BEGIN:VEVENT
DTSTART;TZID=UTC:20231011T080000
DTEND;TZID=UTC:20231014T170000
DTSTAMP:20260421T155023
CREATED:20231006T092505Z
LAST-MODIFIED:20231006T092505Z
UID:18192-1697011200-1697302800@ayto-bailen.com
SUMMARY:Fiestas del Pilar en Bailén del 11 al 14 de octubre
DESCRIPTION:La Asociación de Vecinos Baécula junto a la Concejalía de Festejos\, Deportes y Participación Ciudadana\, ha organizado la celebración del Día de la virgen del Pilar en Bailén\, que tendrá lugar del 11 al 14 de octubre de 2023\, en el Barrio del Pilar. \nbarrio del pilar2
URL:https://ayto-bailen.com/eventos/fiestas-del-pilar-en-bailen-del-11-al-14-de-octubre/
CATEGORIES:Fiesta
END:VEVENT
BEGIN:VEVENT
DTSTART;VALUE=DATE:20231014
DTEND;VALUE=DATE:20231015
DTSTAMP:20260421T155023
CREATED:20231011T085646Z
LAST-MODIFIED:20231011T085646Z
UID:18248-1697241600-1697327999@ayto-bailen.com
SUMMARY:Baloncesto
DESCRIPTION:Categoría Infantil Mixto Provincial \nC.P.D. Bailén/Ub. Bailén \nC.B. Marmolejo \nHora: 10:30 horas \nCategoría Junior Masculino Provincial \nC.P.D. Bailén/Ub. Bailén \nC.B. Baeza \nHora: 12:00 horas \nUbicación:: Complejo !9 de Julio Pista Polideportiva “Juan Sanz Sánchez”
URL:https://ayto-bailen.com/eventos/baloncesto-2/
CATEGORIES:Deportes
ORGANIZER;CN="Delegaci%C3%B3n de Deportes":MAILTO:deportes@ayto-bailen.com
END:VEVENT
BEGIN:VEVENT
DTSTART;VALUE=DATE:20231014
DTEND;VALUE=DATE:20231015
DTSTAMP:20260421T155023
CREATED:20231011T090241Z
LAST-MODIFIED:20231011T090241Z
UID:18250-1697241600-1697327999@ayto-bailen.com
SUMMARY:Voleibol
DESCRIPTION:Categoría Infantil Masculino Provincial \nC.V. Bailén \nLinares C.V \nHora: 16:00 horas \nUbicación: COMPLEJO DEPORTIVO MUNICIPAL 19 DE JULIO PISTA B \nCategoría Cadete Masculino Provincial \nC.V. Bailén \nAndujar Juvenil \nHora: 16:00 horas \nCategoría Cadete Femeino Provincial \nC.V. Bailén \nLinares Verde \nHora: 18:00 horas \nCategoría Senior Masculino Provincial \nC.V. Bailén A \nc.v. Bailén B \nHora: 20:00 horas \nUbicación:: Complejo !9 de Julio Pista Polideportiva “Juan Sanz Sánchez”
URL:https://ayto-bailen.com/eventos/voleibol/
CATEGORIES:Deportes
ORGANIZER;CN="Delegaci%C3%B3n de Deportes":MAILTO:deportes@ayto-bailen.com
END:VEVENT
BEGIN:VEVENT
DTSTART;VALUE=DATE:20231014
DTEND;VALUE=DATE:20231015
DTSTAMP:20260421T155023
CREATED:20231011T084329Z
LAST-MODIFIED:20231011T091544Z
UID:18244-1697241600-1697327999@ayto-bailen.com
SUMMARY:Fútbol
DESCRIPTION:Categoría Alevin Masculino (3ª Andaluza) \nRtvo. de Bailén C.F. \nC.D. Atco Mengibar «B» \nHora: 17:00 horas \nCategoría Benjamín Masculino (3ª Andaluza) \nRtvo. de Bailén C.F. \nC.D. Mengibar «B» \nHora: 18:30 horas \nUbicación: Complejo Municipal “19 de Julio” Campo “Gregorio Manzano Ballesteros”
URL:https://ayto-bailen.com/eventos/futbol-13/
CATEGORIES:Deportes
ORGANIZER;CN="Delegaci%C3%B3n de Deportes":MAILTO:deportes@ayto-bailen.com
END:VEVENT
BEGIN:VEVENT
DTSTART;VALUE=DATE:20231015
DTEND;VALUE=DATE:20231016
DTSTAMP:20260421T155023
CREATED:20231011T080932Z
LAST-MODIFIED:20231011T080932Z
UID:18242-1697328000-1697414399@ayto-bailen.com
SUMMARY:Fútbol Sala
DESCRIPTION:Categoría Juvenil Masculino \nC.D. Bailén 2008 F.S. \nC.D. Los Gachis Fútsal \nHora: 17:30 horas \nCategoría Senior Masculino ( 2ª Andaluza) \nC.D. Bailén 2008 F.S. \nMancha Real F.S. \nHora: 19:30 horas \nUbicación: Pabellón Municipal «28 de Febrero»
URL:https://ayto-bailen.com/eventos/futbol-sala-8/
CATEGORIES:Deportes
ORGANIZER;CN="Delegaci%C3%B3n de Deportes":MAILTO:deportes@ayto-bailen.com
END:VEVENT
BEGIN:VEVENT
DTSTART;VALUE=DATE:20231015
DTEND;VALUE=DATE:20231016
DTSTAMP:20260421T155023
CREATED:20231011T085354Z
LAST-MODIFIED:20231011T085354Z
UID:18246-1697328000-1697414399@ayto-bailen.com
SUMMARY:Fútbol
DESCRIPTION:Categoría Senior Masculino (2ª Andaluza) \nRtvo. de Bailén C.F. \nUrgavona C.F. \nHora: 18:30 horas \nUbicación: Complejo Municipal “19 de Julio” Campo “Gregorio Manzano Ballesteros”
URL:https://ayto-bailen.com/eventos/futbol-14/
CATEGORIES:Deportes
ORGANIZER;CN="Delegaci%C3%B3n de Deportes":MAILTO:deportes@ayto-bailen.com
END:VEVENT
BEGIN:VEVENT
DTSTART;VALUE=DATE:20231015
DTEND;VALUE=DATE:20231016
DTSTAMP:20260421T155023
CREATED:20231011T091023Z
LAST-MODIFIED:20231011T091023Z
UID:18252-1697328000-1697414399@ayto-bailen.com
SUMMARY:Voleibol
DESCRIPTION:Categoría Junior Femenino Provincial \nC.V. Bailén \nC.V. Linares \nHora: 09:00 horas \nCategoría Senior Femenino Provincial \nC.V. Bailén \nC.V. Linares \nHora: 11:00 horas \nUbicación:: Complejo !9 de Julio Pista Polideportiva “Juan Sanz Sánchez” \nCategoría Junior Masculino Provincial \nC.V. Bailén \nC.V. Linares \nHora: 09:00 horas \nCategoría Cadete Femenino Provincial \nC.V. Bailén \nC.V. Linares Verde \nHora: 11:00 horas \nUbicación: COMPLEJO DEPORTIVO MUNICIPAL 19 DE JULIO PISTA B
URL:https://ayto-bailen.com/eventos/voleibol-2/
CATEGORIES:Deportes
ORGANIZER;CN="Delegaci%C3%B3n de Deportes":MAILTO:deportes@ayto-bailen.com
END:VEVENT
BEGIN:VEVENT
DTSTART;TZID=UTC:20231020T200000
DTEND;TZID=UTC:20231020T220000
DTSTAMP:20260421T155023
CREATED:20231017T080840Z
LAST-MODIFIED:20231017T080840Z
UID:18262-1697832000-1697839200@ayto-bailen.com
SUMMARY:Musical Rey León
DESCRIPTION:
URL:https://ayto-bailen.com/eventos/musical-rey-leon/
LOCATION:Casa de la Cultura de Bailén
CATEGORIES:Evento Cultural
END:VEVENT
BEGIN:VEVENT
DTSTART;VALUE=DATE:20231021
DTEND;VALUE=DATE:20231022
DTSTAMP:20260421T155023
CREATED:20231018T150106Z
LAST-MODIFIED:20231018T150106Z
UID:18297-1697846400-1697932799@ayto-bailen.com
SUMMARY:Fútbol Sala
DESCRIPTION:Categoría Alevín B Masculino \nC.D. Bailén 2008 F.S. \nJaén F.S. «C» \nHora: 10:30 horas \nCategoría Alevín A Masculino \nC.D. Bailén 2008 F.S. \nC.P. Maristas F.S \nHora: 12:00 horas \nCategoría Senior  Masculino Tercera División \nC.D. Bailén 2008 F.S. \nPolideportivo Ejido \nHora: 17:00 horas \nUbicación: Pabellón Municipal “28 de Febrero”
URL:https://ayto-bailen.com/eventos/futbol-sala-9/
CATEGORIES:Deportes
ORGANIZER;CN="Delegaci%C3%B3n de Deportes":MAILTO:deportes@ayto-bailen.com
END:VEVENT
BEGIN:VEVENT
DTSTART;VALUE=DATE:20231021
DTEND;VALUE=DATE:20231022
DTSTAMP:20260421T155023
CREATED:20231018T151010Z
LAST-MODIFIED:20231018T151010Z
UID:18299-1697846400-1697932799@ayto-bailen.com
SUMMARY:Fútbol
DESCRIPTION:Categoría Infantil  Masculino (2ª Andaluza) \nRtvo. de Bailén C.F. \nC.D. Alcala Enjoy \nHora: 10:30 horas \nCategoría Infantil  Masculino (3ª Andaluza) \nRtvo. de Bailén C.F. \nC.D. Guarroman Veteranos \nHora: 12:15  horas \nCategoría Cadete Masculino (3ª Andaluza) \nRtvo. de Bailén C.F. \nC.D. Guarroman Veteranos \nHora: 16:00 horas \nCategoría Juvenil Masculino (2ª Andaluza) \nRtvo. de Bailén C.F. \nVillacarrillo E.M.D.” \nHora: 18:00 horas \nCategoría Juvenil Masculino (3ª Andaluza) \nRtvo. de Bailén C.F. \nU.D.- Guarroman \nHora: 20:00 horas \nUbicación: Complejo Municipal “19 de Julio” Campo “Gregorio Manzano Ballesteros”
URL:https://ayto-bailen.com/eventos/futbol-15/
CATEGORIES:Deportes
ORGANIZER;CN="Delegaci%C3%B3n de Deportes":MAILTO:deportes@ayto-bailen.com
END:VEVENT
BEGIN:VEVENT
DTSTART;VALUE=DATE:20231021
DTEND;VALUE=DATE:20231022
DTSTAMP:20260421T155023
CREATED:20231018T154725Z
LAST-MODIFIED:20231018T154725Z
UID:18306-1697846400-1697932799@ayto-bailen.com
SUMMARY:Voleibol
DESCRIPTION:Categoría Cadete-Infantil Masculino Provincial \nC.V. Bailén Cadete \nC.V. Bailén Infantil \nHora: 11:30 horas \nCategoría Seniorl Masculino Provincial \nC.V. Bailén \nC.B. Beas \nHora: 19:00 horas \nUbicación:: Complejo !9 de Julio Pista Polideportiva “Juan Sanz Sánchez”
URL:https://ayto-bailen.com/eventos/voleibol-3/
CATEGORIES:Deportes
ORGANIZER;CN="Delegaci%C3%B3n de Deportes":MAILTO:deportes@ayto-bailen.com
END:VEVENT
BEGIN:VEVENT
DTSTART;VALUE=DATE:20231021
DTEND;VALUE=DATE:20231023
DTSTAMP:20260421T155023
CREATED:20231018T155121Z
LAST-MODIFIED:20231019T132648Z
UID:18308-1697846400-1698019199@ayto-bailen.com
SUMMARY:Marathón de Dobles de Tenis 2023
DESCRIPTION:
URL:https://ayto-bailen.com/eventos/marathon-de-tenis-2023/
CATEGORIES:Deportes
ORGANIZER;CN="Delegaci%C3%B3n de Deportes":MAILTO:deportes@ayto-bailen.com
END:VEVENT
BEGIN:VEVENT
DTSTART;TZID=UTC:20231021T183000
DTEND;TZID=UTC:20231021T220000
DTSTAMP:20260421T155023
CREATED:20231017T081345Z
LAST-MODIFIED:20231017T081345Z
UID:18265-1697913000-1697925600@ayto-bailen.com
SUMMARY:Ciclo de música y visita guiada.
DESCRIPTION:Segunda cita con el ciclo «Fundación Caja Rural en Femenino» el próximo 21 de octubre\, en Bailén\, con María Bellido\, como protagonista\, para cuya visita guiada gratuita a las 18.30 horas es necesario la inscripción en 👇 \nhttps://www.fundacioncrj.es/actividad/visita-guiada-tres-mujeres-en-la-historia-himilce-maria-bellido-pilar-palazon/ \nEl concierto con la voz de Belén Turnes Martínez\, guitarra eléctrica de Narayan Cao y la batería de Daniel Buades Tasa.
URL:https://ayto-bailen.com/eventos/ciclo-de-musica-y-visita-guiada/
LOCATION:Casa de la Cultura de Bailén
CATEGORIES:Evento Cultural
END:VEVENT
BEGIN:VEVENT
DTSTART;VALUE=DATE:20231022
DTEND;VALUE=DATE:20231023
DTSTAMP:20260421T155023
CREATED:20231018T151921Z
LAST-MODIFIED:20231018T151921Z
UID:18301-1697932800-1698019199@ayto-bailen.com
SUMMARY:Fútbol
DESCRIPTION:Categoría Cadete Masculino (2ª Andaluza) \nRtvo. de Bailén C.F. \nVillacarrillo E.M.D. \nHora: 12:00 horas \nCategoría Senior Masculino (2ª Andaluza) \nC.D. Atco Bailén 1008 \nC.D. Campillo del Rio. \nHora: 18:00 horas \nUbicación: Complejo Municipal “19 de Julio” Campo “Gregorio Manzano Ballesteros”
URL:https://ayto-bailen.com/eventos/futbol-16/
CATEGORIES:Deportes
ORGANIZER;CN="Delegaci%C3%B3n de Deportes":MAILTO:deportes@ayto-bailen.com
END:VEVENT
BEGIN:VEVENT
DTSTART;VALUE=DATE:20231022
DTEND;VALUE=DATE:20231023
DTSTAMP:20260421T155023
CREATED:20231018T152338Z
LAST-MODIFIED:20231018T152437Z
UID:18303-1697932800-1698019199@ayto-bailen.com
SUMMARY:Baloncesto
DESCRIPTION:Categoría Mini Mixto Provincial \nC.P.D. Bailén/Ub. Bailén \nC.D. Jaén F.S \nHora: 10:00 horas \nCategoría Senior Provincial \nC.P.D. Bailén/Ub. Bailén \nC.B. Linares \nHora: 19:00 horas \nUbicación:: Complejo !9 de Julio Pista Polideportiva “Juan Sanz Sánchez”
URL:https://ayto-bailen.com/eventos/18303/
CATEGORIES:Deportes
ORGANIZER;CN="Delegaci%C3%B3n de Deportes":MAILTO:deportes@ayto-bailen.com
END:VEVENT
BEGIN:VEVENT
DTSTART;VALUE=DATE:20231022
DTEND;VALUE=DATE:20231023
DTSTAMP:20260421T155023
CREATED:20231019T132853Z
LAST-MODIFIED:20231019T132853Z
UID:18325-1697932800-1698019199@ayto-bailen.com
SUMMARY:Liga de Fútbol Sala Temporada 2023/24 Horarios 1ª Jornada
DESCRIPTION:
URL:https://ayto-bailen.com/eventos/liga-de-futbol-sala-temporada-2023-24-horarios-1a-jornada/
CATEGORIES:Deportes
ORGANIZER;CN="Delegaci%C3%B3n de Deportes":MAILTO:deportes@ayto-bailen.com
END:VEVENT
BEGIN:VEVENT
DTSTART;TZID=UTC:20231022T200000
DTEND;TZID=UTC:20231022T220000
DTSTAMP:20260421T155023
CREATED:20231017T081843Z
LAST-MODIFIED:20231017T081843Z
UID:18268-1698004800-1698012000@ayto-bailen.com
SUMMARY:Hambre de Quijote
DESCRIPTION:Con referencias al “Quijote”\, pero con un lenguaje actual cargado de risas que alimentan el alma. \nLa Compañía “La Líquida Teatro” nos visita de nuevo para ofrecer al público bailenense un divertido\, interactivo y sorprendente espectáculo multidisciplinar sobre el Siglo de Oro de nuestra literatura. Se trata de un espectáculo redondo\, con su parte formal\, con música barroca en directo\, humor y gastronomía cervantina\, imitando de algún modo aquellos corrales de comedias en los que se hacía reír y pensar al público\, mientras éste comía y bebía durante la función. \nCon una trayectoria de nueve años\, la Compañía “La Líquida Teatro” ha visitado decenas de festivales teatrales y ha representado “Hambre” en todo el territorio nacional cosechando grandes éxitos de crítica y público. \nEste espectáculo\, que organiza la Concejalía de Cultura del Ayuntamiento de Bailén\, a cargo de María Teresa Risueño\, y que cuenta con la subvención de la Diputación Provincial de Jaén\, incluido en su programa “Jaén Escena”.
URL:https://ayto-bailen.com/eventos/hambre-de-quijote/
LOCATION:Casa de la Cultura de Bailén
CATEGORIES:Evento Cultural
ORGANIZER;CN="Casa de la Cultura":MAILTO:cultura@ayto-bailen.com
END:VEVENT
BEGIN:VEVENT
DTSTART;VALUE=DATE:20231028
DTEND;VALUE=DATE:20231029
DTSTAMP:20260421T155023
CREATED:20231018T145509Z
LAST-MODIFIED:20231018T145509Z
UID:18294-1698451200-1698537599@ayto-bailen.com
SUMMARY:Ruta Saludable 2023 Senderismo
DESCRIPTION:
URL:https://ayto-bailen.com/eventos/ruta-saludable-2023-senderismo/
CATEGORIES:Deportes
ORGANIZER;CN="Delegaci%C3%B3n de Deportes":MAILTO:deportes@ayto-bailen.com
END:VEVENT
BEGIN:VEVENT
DTSTART;VALUE=DATE:20231028
DTEND;VALUE=DATE:20231029
DTSTAMP:20260421T155023
CREATED:20231026T093145Z
LAST-MODIFIED:20231026T093145Z
UID:18355-1698451200-1698537599@ayto-bailen.com
SUMMARY:Fútbol Sala
DESCRIPTION:Categoría Alevin B Masculino \nC.D. Bailén 2008 F.S. \nC.D. Avanza F.S. \nHora: 11:00 horas \nCategoría Juvenil Masculino \nC.D. Bailén 2008 F.S. \nC.D. Andujar F.S. \nHora: 10:30 horas \nUbicación: Pabellón Municipal “28 de Febrero”
URL:https://ayto-bailen.com/eventos/futbol-sala-10/
CATEGORIES:Deportes
ORGANIZER;CN="Delegaci%C3%B3n de Deportes":MAILTO:deportes@ayto-bailen.com
END:VEVENT
BEGIN:VEVENT
DTSTART;VALUE=DATE:20231028
DTEND;VALUE=DATE:20231029
DTSTAMP:20260421T155023
CREATED:20231026T101101Z
LAST-MODIFIED:20231026T101101Z
UID:18364-1698451200-1698537599@ayto-bailen.com
SUMMARY:Fútbol
DESCRIPTION:Categoría Alevinl Masculino (3ª Andaluza) \nRtvo. de Bailén C.F. \nC.D. Guarroman Veteranos \nHora: 11:00 horas \nCategoría Benjamin Masculino (4ª Andaluza) \nRtvo. de Bailén C.F. \nAtco Porcuna \nHora: 11:00 horas \nCategoría Benjamin Masculino (4ª Andaluza) \nRtvo. de Bailén C.F. \nAtco Porcuna \nHora: 12:30 horas \nCategoría Prebenjamin Masculino (3ª Andaluza) \nRtvo. de Bailén C.F. \nInter Jaén C.F. \nHora: 12:30 horas \nUbicación: Complejo Municipal “19 de Julio” Campo “Gregorio Manzano Ballesteros”
URL:https://ayto-bailen.com/eventos/futbol-17/
CATEGORIES:Deportes
ORGANIZER;CN="Delegaci%C3%B3n de Deportes":MAILTO:deportes@ayto-bailen.com
END:VEVENT
BEGIN:VEVENT
DTSTART;VALUE=DATE:20231028
DTEND;VALUE=DATE:20231029
DTSTAMP:20260421T155023
CREATED:20231026T133554Z
LAST-MODIFIED:20231026T133554Z
UID:18368-1698451200-1698537599@ayto-bailen.com
SUMMARY:Baloncesto
DESCRIPTION:Categoría Infantil Mixto Provincial \nC.P.D. Bailén/Ub. Bailén \nCB Porcuna \nHora: 09:15  horas \nCategoría Junior Masculino Provincial \nC.P.D. Bailén/Ub. Bailén \nC.B. Andujar B \nHora: 10:45 horas \nUbicación:: Complejo !9 de Julio Pista Polideportiva “Juan Sanz Sánchez”
URL:https://ayto-bailen.com/eventos/baloncesto-3/
CATEGORIES:Deportes
ORGANIZER;CN="Delegaci%C3%B3n de Deportes":MAILTO:deportes@ayto-bailen.com
END:VEVENT
BEGIN:VEVENT
DTSTART;VALUE=DATE:20231028
DTEND;VALUE=DATE:20231029
DTSTAMP:20260421T155023
CREATED:20231026T134053Z
LAST-MODIFIED:20231026T134919Z
UID:18375-1698451200-1698537599@ayto-bailen.com
SUMMARY:Voleibol
DESCRIPTION:Categoría Senior Masculino Provincial \nC.V. Bailén \nC.V. Mancha Real \nHora: 17:00 horas \nUbicación:: Complejo !9 de Julio Pista Polideportiva “Juan Sanz Sánchez”
URL:https://ayto-bailen.com/eventos/voleibol-5/
CATEGORIES:Deportes
ORGANIZER;CN="Delegaci%C3%B3n de Deportes":MAILTO:deportes@ayto-bailen.com
END:VEVENT
BEGIN:VEVENT
DTSTART;TZID=UTC:20231028T200000
DTEND;TZID=UTC:20231028T220000
DTSTAMP:20260421T155023
CREATED:20231017T084411Z
LAST-MODIFIED:20231017T084411Z
UID:18270-1698523200-1698530400@ayto-bailen.com
SUMMARY:Eco
DESCRIPTION:“Eco”\, un espectáculo cómico que habla de la poesía que nos ata a la vida.\nUn proceso de creación guiado con mimo y precisión por la sabiduría de una de las compañías de referencia en el  panorama internacional del teatro de títeres y del movimiento (Zero en Conducta) y por un excelente clown (Delfín Caset).\n\nEste espectáculo\, que organiza la Concejalía de Cultura del Ayuntamiento de Bailén\, a cargo de María Teresa Risueño\, y que cuenta con la financiación de la Diputación Provincial de Jaén.
URL:https://ayto-bailen.com/eventos/eco/
LOCATION:Salón de Actos de la Casa de la Cultura\, Calle de los Héroes de Bailén\, número 18\, Bailén\, Jaén\, 23710\, España
CATEGORIES:Evento Cultural
ORGANIZER;CN="Casa de la Cultura":MAILTO:cultura@ayto-bailen.com
END:VEVENT
BEGIN:VEVENT
DTSTART;VALUE=DATE:20231029
DTEND;VALUE=DATE:20231030
DTSTAMP:20260421T155023
CREATED:20231026T093418Z
LAST-MODIFIED:20231026T093418Z
UID:18360-1698537600-1698623999@ayto-bailen.com
SUMMARY:Fútbol Sala
DESCRIPTION:Categoría Senior Masculino 2ª Andaluza \nC.D. Bailén 2008 F.S. \nPatin Bar F.S. \nHora: 18:00 horas \nUbicación: Pabellón Municipal “28 de Febrero”
URL:https://ayto-bailen.com/eventos/futbol-sala-11/
CATEGORIES:Deportes
ORGANIZER;CN="Delegaci%C3%B3n de Deportes":MAILTO:deportes@ayto-bailen.com
END:VEVENT
BEGIN:VEVENT
DTSTART;VALUE=DATE:20231029
DTEND;VALUE=DATE:20231030
DTSTAMP:20260421T155023
CREATED:20231026T133805Z
LAST-MODIFIED:20231026T133901Z
UID:18370-1698537600-1698623999@ayto-bailen.com
SUMMARY:Baloncesto
DESCRIPTION:Categoría Senior Femenino Provincial \nC.P.D. Bailén/Ub. Bailén \nC.B. Martos \nHora: 12:30  horas \nUbicación:: Complejo !9 de Julio Pista Polideportiva “Juan Sanz Sánchez”
URL:https://ayto-bailen.com/eventos/voleibol-4/
CATEGORIES:Deportes
ORGANIZER;CN="Delegaci%C3%B3n de Deportes":MAILTO:deportes@ayto-bailen.com
END:VEVENT
BEGIN:VEVENT
DTSTART;VALUE=DATE:20231029
DTEND;VALUE=DATE:20231030
DTSTAMP:20260421T155023
CREATED:20231026T134817Z
LAST-MODIFIED:20231026T134817Z
UID:18377-1698537600-1698623999@ayto-bailen.com
SUMMARY:Voleibol
DESCRIPTION:Categoría Infantil Masculino Provincial \nC.V. Bailén \nC.V. Voleibol Up \nHora: 16:00 horas \nCategoría Juvenil Femenino Provincial \nC.V. Bailén \nC.V. Voleibol Alcaudete \nHora: 16:00 horas \nCategoría Senior Femenino Provincial \nC.V. Bailén \nC.V. Voleibol Up \nHora: 18:00 horas \nCategoría Infantil Femenino Provincial \nC.V. Bailén \nC.V. Voleibol Up \nHora: 18:00 horas \nCategoría Juvenil Femenino Provincial \nC.V. Bailén \nC.V. Voleibol Up \nHora: 20:00 horas \nUbicación:: Complejo 19 de Julio Pista Polideportiva “Juan Sanz Sánchez”
URL:https://ayto-bailen.com/eventos/voleibol-6/
CATEGORIES:Deportes
ORGANIZER;CN="Delegaci%C3%B3n de Deportes":MAILTO:deportes@ayto-bailen.com
END:VEVENT
BEGIN:VEVENT
DTSTART;VALUE=DATE:20231029
DTEND;VALUE=DATE:20231030
DTSTAMP:20260421T155023
CREATED:20231026T135143Z
LAST-MODIFIED:20231026T135143Z
UID:18380-1698537600-1698623999@ayto-bailen.com
SUMMARY:Liga de Fútbol Sala de Bailén Temporada 2023/24 Horarios: 2ª Jornada
DESCRIPTION:
URL:https://ayto-bailen.com/eventos/liga-de-futbol-sala-de-bailen-temporada-2023-24-horarios-2a-jornada/
CATEGORIES:Deportes
ORGANIZER;CN="Delegaci%C3%B3n de Deportes":MAILTO:deportes@ayto-bailen.com
END:VEVENT
BEGIN:VEVENT
DTSTART;TZID=UTC:20231029T080000
DTEND;TZID=UTC:20231029T170000
DTSTAMP:20260421T155023
CREATED:20231026T101637Z
LAST-MODIFIED:20231026T101637Z
UID:18366-1698566400-1698598800@ayto-bailen.com
SUMMARY:Fútbol
DESCRIPTION:Categoría Senior Masculino (2ª Andaluza) \nAtco Bailén 1808 \nArjonilla C.F. \nHora: 12:00 horas \nCategoría Senior Masculino (2ª Andaluza) \nRtvo. de Bailén C.F. \nLinares Deportivo \nHora: 16:30 horas \nCategoría Femenino Infantil/Alevin (Liga de Fomento) \nRtvo. de Bailén C.F. \nC.D. Atco Mengibar \nHora:18:30 horas \nUbicación: Complejo Municipal “19 de Julio” Campo “Gregorio Manzano Ballesteros”
URL:https://ayto-bailen.com/eventos/futbol-18/
CATEGORIES:Deportes
ORGANIZER;CN="Delegaci%C3%B3n de Deportes":MAILTO:deportes@ayto-bailen.com
END:VEVENT
BEGIN:VEVENT
DTSTART;TZID=UTC:20231029T200000
DTEND;TZID=UTC:20231029T213000
DTSTAMP:20260421T155023
CREATED:20231027T124117Z
LAST-MODIFIED:20231027T124117Z
UID:18396-1698609600-1698615000@ayto-bailen.com
SUMMARY:Paseo Nocturno de Halloween
DESCRIPTION:Paseo para público infantil. Pueden acompañar padres. \nInicio a las 20:00 horas. \nGratuito. \nNo es necesaria inscripción previa.
URL:https://ayto-bailen.com/eventos/paseo-nocturno-de-halloween/
LOCATION:Plaza de la Constitución\, Plaza de la Constitución\, Bailén\, Jaén\, 23710\, España
ORGANIZER;CN="Ayuntamiento de Bail%C3%A9n":MAILTO:informacion@ayto-bailen.com
END:VEVENT
BEGIN:VEVENT
DTSTART;VALUE=DATE:20231101
DTEND;VALUE=DATE:20231102
DTSTAMP:20260421T155023
CREATED:20231026T100327Z
LAST-MODIFIED:20231026T100327Z
UID:18362-1698796800-1698883199@ayto-bailen.com
SUMMARY:Fútbol Sala
DESCRIPTION:Categoría Senior Masculino Tercera División \nC.D. Bailén 2008 F.S. \nC.D. Vicar Vistasol F.S. \nHora: 17:30 horas \nUbicación: Pabellón Municipal “28 de Febrero”
URL:https://ayto-bailen.com/eventos/futbol-sala-12/
CATEGORIES:Deportes
ORGANIZER;CN="Delegaci%C3%B3n de Deportes":MAILTO:deportes@ayto-bailen.com
END:VEVENT
END:VCALENDAR