BEGIN:VCALENDAR
VERSION:2.0
PRODID:-//Ayto Bailén - ECPv6.15.20//NONSGML v1.0//EN
CALSCALE:GREGORIAN
METHOD:PUBLISH
X-ORIGINAL-URL:https://ayto-bailen.com
X-WR-CALDESC:Eventos para Ayto Bailén
REFRESH-INTERVAL;VALUE=DURATION:PT1H
X-Robots-Tag:noindex
X-PUBLISHED-TTL:PT1H
BEGIN:VTIMEZONE
TZID:UTC
BEGIN:STANDARD
TZOFFSETFROM:+0000
TZOFFSETTO:+0000
TZNAME:UTC
DTSTART:20230101T000000
END:STANDARD
END:VTIMEZONE
BEGIN:VEVENT
DTSTART;VALUE=DATE:20240415
DTEND;VALUE=DATE:20240416
DTSTAMP:20260425T051310
CREATED:20240409T133821Z
LAST-MODIFIED:20240409T134005Z
UID:20572-1713139200-1713225599@ayto-bailen.com
SUMMARY:Lectura continuada del libro "La sombra del viento"
DESCRIPTION:  \n  \n  \n \nActividad propuesta para la celebración del Día Internacional del Libro. Esta actividad forma parte de la celebración de la feria del libro 2024. \nEsta lectura se llevará a cabo en las instalaciones de la Biblioteca Municipal Baécula de Bailén de 10.00 horas  a 12.00 horas. \nLibro «La sombra del viento» del autor Carlos Ruiz Zafón. \nEste día participarán como lectores\, Don Luis Mariano Camacho Núñez\, Alcalde de Bailén\, Doña María Teresa Risueño Mañas\, Concejal de Cultura\, Educación y Medio ambiente\, Director y alumnos del Instituto Medina Rivilla\, usuarios y monitores de A.F.A.M. junto a usuarios de la Residencia Pedro Gámez y los usuarios del Taller Ocupacional. \nSe puede asistir como público.
URL:https://ayto-bailen.com/eventos/lectura-continuada-del-libro-la-sombra-del-viento/
LOCATION:Biblioteca Municipal Baécula
CATEGORIES:Evento Cultural
ORGANIZER;CN="Ayuntamiento de Bail%C3%A9n":MAILTO:informacion@ayto-bailen.com
END:VEVENT
BEGIN:VEVENT
DTSTART;VALUE=DATE:20240418
DTEND;VALUE=DATE:20240419
DTSTAMP:20260425T051310
CREATED:20240409T135839Z
LAST-MODIFIED:20240409T135839Z
UID:20585-1713398400-1713484799@ayto-bailen.com
SUMMARY:Lectura continuada del libro "La sombra del viento"
DESCRIPTION:  \n \nActividad propuesta para la celebración del Día Internacional del Libro. Esta actividad forma parte de la celebración de la feria del libro 2024. \nEsta lectura se llevará a cabo en las instalaciones de la Biblioteca Municipal Baécula de Bailén de 10.00horas  a 12.00 horas. \nLibro «La sombra del viento» del autor Carlos Ruiz Zafón. \nEste día participarán como lectores\, los alumnos y alumnas de 1º y 2º de la E.S.O del I.E.S. María Bellido. \nSe puede asistir como público.
URL:https://ayto-bailen.com/eventos/lectura-continuada-del-libro-la-sombra-del-viento-4/
LOCATION:Biblioteca Municipal Baécula
CATEGORIES:Evento Cultural
ORGANIZER;CN="Ayuntamiento de Bail%C3%A9n":MAILTO:informacion@ayto-bailen.com
END:VEVENT
END:VCALENDAR