BEGIN:VCALENDAR
VERSION:2.0
PRODID:-//Ayto Bailén - ECPv6.15.20//NONSGML v1.0//EN
CALSCALE:GREGORIAN
METHOD:PUBLISH
X-ORIGINAL-URL:https://ayto-bailen.com
X-WR-CALDESC:Eventos para Ayto Bailén
REFRESH-INTERVAL;VALUE=DURATION:PT1H
X-Robots-Tag:noindex
X-PUBLISHED-TTL:PT1H
BEGIN:VTIMEZONE
TZID:UTC
BEGIN:STANDARD
TZOFFSETFROM:+0000
TZOFFSETTO:+0000
TZNAME:UTC
DTSTART:20230101T000000
END:STANDARD
END:VTIMEZONE
BEGIN:VEVENT
DTSTART;TZID=UTC:20241129T203000
DTEND;TZID=UTC:20241129T223000
DTSTAMP:20260421T190857
CREATED:20241026T135024Z
LAST-MODIFIED:20241127T121251Z
UID:23171-1732912200-1732919400@ayto-bailen.com
SUMMARY:Cine - "La vida en una gota" de Pedro Lendínez
DESCRIPTION:Puedes ver el tráiler de la película en https://youtu.be/1TlozXiTFxc?si=YETDl0y3JLyWpTal \n 
URL:https://ayto-bailen.com/eventos/cine-la-vida-en-una-gota-de-pedro-lendinez/
LOCATION:Salón de Actos de la Casa de la Cultura\, Calle de los Héroes de Bailén\, número 18\, Bailén\, Jaén\, 23710\, España
CATEGORIES:Evento Cultural
END:VEVENT
END:VCALENDAR