BEGIN:VCALENDAR
VERSION:2.0
PRODID:-//Ayto Bailén - ECPv6.15.20//NONSGML v1.0//EN
CALSCALE:GREGORIAN
METHOD:PUBLISH
X-ORIGINAL-URL:https://ayto-bailen.com
X-WR-CALDESC:Eventos para Ayto Bailén
REFRESH-INTERVAL;VALUE=DURATION:PT1H
X-Robots-Tag:noindex
X-PUBLISHED-TTL:PT1H
BEGIN:VTIMEZONE
TZID:UTC
BEGIN:STANDARD
TZOFFSETFROM:+0000
TZOFFSETTO:+0000
TZNAME:UTC
DTSTART:20240101T000000
END:STANDARD
END:VTIMEZONE
BEGIN:VEVENT
DTSTART;TZID=UTC:20250607T200000
DTEND;TZID=UTC:20250607T200000
DTSTAMP:20260424T201602
CREATED:20250602T104802Z
LAST-MODIFIED:20250602T104802Z
UID:25918-1749326400-1749326400@ayto-bailen.com
SUMMARY:Muestra de teatro local - La madre que te parió de Neolaia
DESCRIPTION:Cuatro amigas y las madres que las parió asisten a la boda de una de ellas\nSecretos y sentimientos se ponen a la luz que pone patas arriba las relaciones de madres e hijas. Pero el que más descubre es el recién estrenado marido\n¿ Alguna vez has estado en una boda que acaba en divorcio? \nNo recomendado para menores de 18 años
URL:https://ayto-bailen.com/eventos/muestra-de-teatro-local-la-madre-que-te-pario-de-neolaia/
LOCATION:Salón de Actos de la Casa de la Cultura\, Calle de los Héroes de Bailén\, número 18\, Bailén\, Jaén\, 23710\, España
CATEGORIES:Evento Cultural
END:VEVENT
BEGIN:VEVENT
DTSTART;TZID=UTC:20250614T200000
DTEND;TZID=UTC:20250614T200000
DTSTAMP:20260424T201602
CREATED:20250603T055326Z
LAST-MODIFIED:20250603T055326Z
UID:25938-1749931200-1749931200@ayto-bailen.com
SUMMARY:Muestra de teatro local - Toc Toc de Besur
DESCRIPTION:  \nUn grupo de pacientes coincide en la consulta de un prestigioso psiquiatra\, todos ellos aquejados de TOC (Trastorno Obsesivo Compulsivo). Pero como el médico se retrasa\, tendrán que esperarle intentando mantener a raya -o no tanto- sus manías\, impulsos\, convulsiones\, obsesiones y rituales\, creando situaciones disparatadas y divertidas. \nBESUR vuelve con la obra TOC-TOC\, del humorista francés Laurent Baffie y dirigida por Monsi del Águila\, debido a la gran aceptación que tuvo cuando fue representada en noviembre pasado y a petición de muchas personas que no pudieron asistir a ella por diversos motivos. Y vuelve el día 14 de junio\, en la Casa de la Cultura\, a las 20 horas. Una comedia que gira alrededor del TOC\, que\, aun tratándose de un tema serio\, se aborda desde el humor\, pretendiendo incluso ayudar a entender este trastorno y cómo afecta en el día a día de las personas que lo padecen. \nNo recomendado para menores de 12 años.
URL:https://ayto-bailen.com/eventos/muestra-de-teatro-local-toc-toc-de-besur/
LOCATION:Salón de Actos de la Casa de la Cultura\, Calle de los Héroes de Bailén\, número 18\, Bailén\, Jaén\, 23710\, España
CATEGORIES:Evento Cultural
END:VEVENT
END:VCALENDAR