BEGIN:VCALENDAR
VERSION:2.0
PRODID:-//Ayto Bailén - ECPv6.15.20//NONSGML v1.0//EN
CALSCALE:GREGORIAN
METHOD:PUBLISH
X-ORIGINAL-URL:https://ayto-bailen.com
X-WR-CALDESC:Eventos para Ayto Bailén
REFRESH-INTERVAL;VALUE=DURATION:PT1H
X-Robots-Tag:noindex
X-PUBLISHED-TTL:PT1H
BEGIN:VTIMEZONE
TZID:UTC
BEGIN:STANDARD
TZOFFSETFROM:+0000
TZOFFSETTO:+0000
TZNAME:UTC
DTSTART:20230101T000000
END:STANDARD
END:VTIMEZONE
BEGIN:VEVENT
DTSTART;TZID=UTC:20241214T200000
DTEND;TZID=UTC:20241214T220000
DTSTAMP:20260426T000324
CREATED:20241115T175947Z
LAST-MODIFIED:20241130T170915Z
UID:23497-1734206400-1734213600@ayto-bailen.com
SUMMARY:Teatro\, Otoño Cultural "Amalia y el Río. Diario de una Estraperlista" de Teatro Guirigay
DESCRIPTION:Cuando Amalia vuelve a su pueblo siempre aparece el mismo sueño: el río de su juventud\, los gritos amenazantes de guardias y carabineros\, mujeres cruzando las frías aguas cargadas de bultos\, las canciones de su madre\, la alegría de su amiga Rosa\, los secretos de la Basilisa\, la envidiosa de su suegra\, la Pelá –que tantas veces la denunció–\, el simpático Chiribique… Amalia nos cuenta su historia desde 1942 a 1964\, cuando ya viuda y con ocho hijos emigra a Barcelona. \nAmalia y el río se basa en la historia real de Antonia ‘La Lirina’\, vecina de Olivenza\, que el profesor de Antropología Social de la Universidad de Extremadura\, Eusebio Medina García\, recogió\, junto con otras voces de contrabandistas y estraperlistas\, en su tesis doctoral ‘Contrabando en la frontera de Portugal’. \nLa historia sucede en la frontera extremeña con Portugal\, entre Olivenza y Badajoz\, durante los años 1942 y 1964. Un retazo vivo de las historias ocultas del contrabando en España\, protagonizado por una mujer mochilera y estraperlista durante los inacabables años de la posguerra en España. \nSu voz es la de una mujer fuerte\, inteligente\, socarrona. Vitalista y astuta frente a las autoridades vencedoras que en la frontera son guardinhas\, policías\, guardias civiles\, fiscales y toda una espesa malla de contrabando incrustada en el tejido social. \nEntrada 3 euros. \nApto para todos los públicos.
URL:https://ayto-bailen.com/eventos/teatro-otono-cultural-amalia-y-el-rio-diario-de-una-estraperlista-de-teatro-guirigay/
LOCATION:Salón de Actos de la Casa de la Cultura\, Calle de los Héroes de Bailén\, número 18\, Bailén\, Jaén\, 23710\, España
CATEGORIES:Evento Cultural
END:VEVENT
BEGIN:VEVENT
DTSTART;TZID=UTC:20241215T180000
DTEND;TZID=UTC:20241215T200000
DTSTAMP:20260426T000324
CREATED:20241213T092332Z
LAST-MODIFIED:20241213T092332Z
UID:23926-1734285600-1734292800@ayto-bailen.com
SUMMARY:Navidad Filarmónica. Concierto extraordinario
DESCRIPTION:Entrada 3 euros. \n 
URL:https://ayto-bailen.com/eventos/navidad-filarmonica-concierto-extraordinario/
LOCATION:Casa de la Cultura de Bailén
CATEGORIES:Evento Cultural
END:VEVENT
BEGIN:VEVENT
DTSTART;VALUE=DATE:20241220
DTEND;VALUE=DATE:20241221
DTSTAMP:20260426T000324
CREATED:20241214T150705Z
LAST-MODIFIED:20241214T150705Z
UID:23938-1734652800-1734739199@ayto-bailen.com
SUMMARY:El trineo de la navidad - Cantajuegos
DESCRIPTION:
URL:https://ayto-bailen.com/eventos/el-trineo-de-la-navidad-cantajuegos/
LOCATION:Salón de Actos de la Casa de la Cultura\, Calle de los Héroes de Bailén\, número 18\, Bailén\, Jaén\, 23710\, España
CATEGORIES:Evento Cultural
END:VEVENT
BEGIN:VEVENT
DTSTART;TZID=UTC:20241221T200000
DTEND;TZID=UTC:20241221T220000
DTSTAMP:20260426T000324
CREATED:20241214T151219Z
LAST-MODIFIED:20241214T151806Z
UID:23941-1734811200-1734818400@ayto-bailen.com
SUMMARY:Concierto extraordinario de navidad - Banda de música Bailén
DESCRIPTION:
URL:https://ayto-bailen.com/eventos/concierto-extraordinario-de-navidad-banda-de-musica-bailen/
LOCATION:Salón de Actos de la Casa de la Cultura\, Calle de los Héroes de Bailén\, número 18\, Bailén\, Jaén\, 23710\, España
CATEGORIES:Evento Cultural
END:VEVENT
BEGIN:VEVENT
DTSTART;TZID=UTC:20241230T183000
DTEND;TZID=UTC:20241230T203000
DTSTAMP:20260426T000324
CREATED:20241213T113323Z
LAST-MODIFIED:20241213T113323Z
UID:23931-1735583400-1735590600@ayto-bailen.com
SUMMARY:Campanadas infantiles
DESCRIPTION:
URL:https://ayto-bailen.com/eventos/campanadas-infantiles/
LOCATION:Salón de Actos de la Casa de la Cultura\, Calle de los Héroes de Bailén\, número 18\, Bailén\, Jaén\, 23710\, España
CATEGORIES:Evento Cultural
END:VEVENT
BEGIN:VEVENT
DTSTART;TZID=UTC:20241230T183000
DTEND;TZID=UTC:20241230T203000
DTSTAMP:20260426T000324
CREATED:20241214T151522Z
LAST-MODIFIED:20241214T151522Z
UID:23944-1735583400-1735590600@ayto-bailen.com
SUMMARY:Campanadas infantiles - Animahist
DESCRIPTION:
URL:https://ayto-bailen.com/eventos/campanadas-infantiles-animahist/
LOCATION:Salón de Actos de la Casa de la Cultura\, Calle de los Héroes de Bailén\, número 18\, Bailén\, Jaén\, 23710\, España
CATEGORIES:Evento Cultural
END:VEVENT
END:VCALENDAR