BEGIN:VCALENDAR
VERSION:2.0
PRODID:-//Ayto Bailén - ECPv6.15.20//NONSGML v1.0//EN
CALSCALE:GREGORIAN
METHOD:PUBLISH
X-WR-CALNAME:Ayto Bailén
X-ORIGINAL-URL:https://ayto-bailen.com
X-WR-CALDESC:Eventos para Ayto Bailén
REFRESH-INTERVAL;VALUE=DURATION:PT1H
X-Robots-Tag:noindex
X-PUBLISHED-TTL:PT1H
BEGIN:VTIMEZONE
TZID:UTC
BEGIN:STANDARD
TZOFFSETFROM:+0000
TZOFFSETTO:+0000
TZNAME:UTC
DTSTART:20230101T000000
END:STANDARD
END:VTIMEZONE
BEGIN:VEVENT
DTSTART;TZID=UTC:20241109T200000
DTEND;TZID=UTC:20241109T220000
DTSTAMP:20260421T155046
CREATED:20241026T131449Z
LAST-MODIFIED:20241028T091140Z
UID:23157-1731182400-1731189600@ayto-bailen.com
SUMMARY:Teatro Otoño cultural Los Invisibles de La Coracha Teatro
DESCRIPTION:Sinópsis\n\n\n\n\nDos mendigos. Él\, que lleva poco tiempo en la calle\, no ha olvidado la vida visible y la necesita. Ella\, que ya ha perdido la cuenta\, ha encontrado en la invisibilidad su propia felicidad. Illa y Tío Mierda se volvieron invisibles para el mundo por razones muy distintas\, y hoy ‘celebran’ el primer aniversario de su encuentro en la calle. \n\nVenta de entradas Casa de la Cultura. Precio 3 euros. \n 
URL:https://ayto-bailen.com/eventos/teatro-otono-cultural-los-invisibles-de-la-coracha-teatro/
LOCATION:Salón de Actos de la Casa de la Cultura\, Calle de los Héroes de Bailén\, número 18\, Bailén\, Jaén\, 23710\, España
CATEGORIES:Evento Cultural
END:VEVENT
BEGIN:VEVENT
DTSTART;TZID=UTC:20241110T120000
DTEND;TZID=UTC:20241110T140000
DTSTAMP:20260421T155046
CREATED:20241026T132013Z
LAST-MODIFIED:20241026T132013Z
UID:23161-1731240000-1731247200@ayto-bailen.com
SUMMARY:Concierto en honor de Sta. Cecilia
DESCRIPTION:
URL:https://ayto-bailen.com/eventos/concierto-en-honor-de-sta-cecilia/
LOCATION:Jaén
CATEGORIES:Evento Cultural
END:VEVENT
BEGIN:VEVENT
DTSTART;TZID=UTC:20241115T200000
DTEND;TZID=UTC:20241115T220000
DTSTAMP:20260421T155046
CREATED:20241026T133854Z
LAST-MODIFIED:20241026T133854Z
UID:23165-1731700800-1731708000@ayto-bailen.com
SUMMARY:Teatro Otoño Cultural La Casa de Bernarda Alba Apaem
DESCRIPTION:
URL:https://ayto-bailen.com/eventos/teatro-otono-cultural-la-casa-de-bernarda-alba-apaem/
LOCATION:Salón de Actos de la Casa de la Cultura\, Calle de los Héroes de Bailén\, número 18\, Bailén\, Jaén\, 23710\, España
CATEGORIES:Evento Cultural
END:VEVENT
BEGIN:VEVENT
DTSTART;TZID=UTC:20241116T200000
DTEND;TZID=UTC:20241116T220000
DTSTAMP:20260421T155046
CREATED:20241026T134214Z
LAST-MODIFIED:20241104T154132Z
UID:23169-1731787200-1731794400@ayto-bailen.com
SUMMARY:Teatro Otoño Cultural Toc-Toc Besur
DESCRIPTION:Un grupo de pacientes coincide en la consulta de un prestigioso psiquiatra\, todos ellos aquejados de TOC (Trastorno Obsesivo Compulsivo). Pero como el médico se retrasa\, tendrán que esperarle intentando mantener a raya -o no tanto- sus manías\, impulsos\, convulsiones\, obsesiones y rituales\, creando situaciones disparatadas y divertidas. \nBESUR\, continúa apostando por el humor. En esta ocasión llevan a escena\, el día 16 de noviembre\, en la Casa de la Cultura\, a las 20 horas\, una adaptación de la obra teatral TOC-TOC\, del humorista francés Laurent Baffie y dirigida por Monsi del Águila. Una comedia que gira alrededor del TOC\, que\, aun tratándose de un tema serio\, se aborda desde el humor\, pretendiendo incluso ayudar a entender este trastorno y cómo afecta en el día a día de las personas que lo padecen.  \nVenta de entradas Casa de la Cultura. Precio 3 euros.
URL:https://ayto-bailen.com/eventos/teatro-otono-cultural-toc-toc-besur/
LOCATION:Salón de Actos de la Casa de la Cultura\, Calle de los Héroes de Bailén\, número 18\, Bailén\, Jaén\, 23710\, España
CATEGORIES:Evento Cultural
END:VEVENT
BEGIN:VEVENT
DTSTART;TZID=UTC:20241123T193000
DTEND;TZID=UTC:20241123T220000
DTSTAMP:20260421T155046
CREATED:20241115T165616Z
LAST-MODIFIED:20241115T190224Z
UID:23493-1732390200-1732399200@ayto-bailen.com
SUMMARY:X Concurso de Cante Flamenco "José Antonio Pérez de Castro Barrabás"
DESCRIPTION:Organizado por la Asociación Peña Flamenca «El Puchero». \nEntrada donativo 5 euros. \nApto para todos los públicos. \n 
URL:https://ayto-bailen.com/eventos/x-concurso-de-cante-flamenco-jose-antonio-perez-de-castro-barrabas/
LOCATION:Salón de Actos de la Casa de la Cultura\, Calle de los Héroes de Bailén\, número 18\, Bailén\, Jaén\, 23710\, España
CATEGORIES:Evento Cultural
END:VEVENT
BEGIN:VEVENT
DTSTART;TZID=UTC:20241129T203000
DTEND;TZID=UTC:20241129T223000
DTSTAMP:20260421T155046
CREATED:20241026T135024Z
LAST-MODIFIED:20241127T121251Z
UID:23171-1732912200-1732919400@ayto-bailen.com
SUMMARY:Cine - "La vida en una gota" de Pedro Lendínez
DESCRIPTION:Puedes ver el tráiler de la película en https://youtu.be/1TlozXiTFxc?si=YETDl0y3JLyWpTal \n 
URL:https://ayto-bailen.com/eventos/cine-la-vida-en-una-gota-de-pedro-lendinez/
LOCATION:Salón de Actos de la Casa de la Cultura\, Calle de los Héroes de Bailén\, número 18\, Bailén\, Jaén\, 23710\, España
CATEGORIES:Evento Cultural
END:VEVENT
BEGIN:VEVENT
DTSTART;TZID=UTC:20241130T200000
DTEND;TZID=UTC:20241130T220000
DTSTAMP:20260421T155046
CREATED:20241115T171055Z
LAST-MODIFIED:20241115T171055Z
UID:23495-1732996800-1733004000@ayto-bailen.com
SUMMARY:Teatro\, Otoño Cultural "La Maleta de Mi Abuela" de Nati Villar
DESCRIPTION:Entrada 1 euro \nApto para todos los públicos
URL:https://ayto-bailen.com/eventos/teatro-otono-cultural-la-maleta-de-mi-abuela-de-nati-villar/
LOCATION:Salón de Actos de la Casa de la Cultura\, Calle de los Héroes de Bailén\, número 18\, Bailén\, Jaén\, 23710\, España
CATEGORIES:Evento Cultural
END:VEVENT
END:VCALENDAR