BEGIN:VCALENDAR
VERSION:2.0
PRODID:-//Ayto Bailén - ECPv6.15.20//NONSGML v1.0//EN
CALSCALE:GREGORIAN
METHOD:PUBLISH
X-ORIGINAL-URL:https://ayto-bailen.com
X-WR-CALDESC:Eventos para Ayto Bailén
REFRESH-INTERVAL;VALUE=DURATION:PT1H
X-Robots-Tag:noindex
X-PUBLISHED-TTL:PT1H
BEGIN:VTIMEZONE
TZID:UTC
BEGIN:STANDARD
TZOFFSETFROM:+0000
TZOFFSETTO:+0000
TZNAME:UTC
DTSTART:20200101T000000
END:STANDARD
END:VTIMEZONE
BEGIN:VEVENT
DTSTART;TZID=UTC:20210718T220000
DTEND;TZID=UTC:20210718T220000
DTSTAMP:20260423T184549
CREATED:20210715T040815Z
LAST-MODIFIED:20210715T040858Z
UID:11049-1626645600-1626645600@ayto-bailen.com
SUMMARY:Actuación Fiestas
DESCRIPTION:
URL:https://ayto-bailen.com/eventos/actuacion-fiestas/
LOCATION:Jaén
CATEGORIES:Espectaculo
END:VEVENT
END:VCALENDAR