BEGIN:VCALENDAR
VERSION:2.0
PRODID:-//Ayto Bailén - ECPv6.15.20//NONSGML v1.0//EN
CALSCALE:GREGORIAN
METHOD:PUBLISH
X-WR-CALNAME:Ayto Bailén
X-ORIGINAL-URL:https://ayto-bailen.com
X-WR-CALDESC:Eventos para Ayto Bailén
REFRESH-INTERVAL;VALUE=DURATION:PT1H
X-Robots-Tag:noindex
X-PUBLISHED-TTL:PT1H
BEGIN:VTIMEZONE
TZID:UTC
BEGIN:STANDARD
TZOFFSETFROM:+0000
TZOFFSETTO:+0000
TZNAME:UTC
DTSTART:20240101T000000
END:STANDARD
END:VTIMEZONE
BEGIN:VEVENT
DTSTART;VALUE=DATE:20250314
DTEND;VALUE=DATE:20250315
DTSTAMP:20260422T134217
CREATED:20250311T173422Z
LAST-MODIFIED:20250311T173422Z
UID:25078-1741910400-1741996799@ayto-bailen.com
SUMMARY:Fútbol Sala
DESCRIPTION:Categoría Alevín Masculino 2ª Andaluza \nC.D. Bailén 2008 F.S. \nJaén F.S. \nHora: 19:15 Horas \nUbicación:: Pabellón Municipal “28 de Febrero”
URL:https://ayto-bailen.com/eventos/futbol-sala-75/
CATEGORIES:Deportes
ORGANIZER;CN="Delegaci%C3%B3n de Deportes":MAILTO:deportes@ayto-bailen.com
END:VEVENT
END:VCALENDAR