BEGIN:VCALENDAR
VERSION:2.0
PRODID:-//Ayto Bailén - ECPv6.15.20//NONSGML v1.0//EN
CALSCALE:GREGORIAN
METHOD:PUBLISH
X-ORIGINAL-URL:https://ayto-bailen.com
X-WR-CALDESC:Eventos para Ayto Bailén
REFRESH-INTERVAL;VALUE=DURATION:PT1H
X-Robots-Tag:noindex
X-PUBLISHED-TTL:PT1H
BEGIN:VTIMEZONE
TZID:UTC
BEGIN:STANDARD
TZOFFSETFROM:+0000
TZOFFSETTO:+0000
TZNAME:UTC
DTSTART:20230101T000000
END:STANDARD
END:VTIMEZONE
BEGIN:VEVENT
DTSTART;VALUE=DATE:20241116
DTEND;VALUE=DATE:20241124
DTSTAMP:20260422T213554
CREATED:20241113T162031Z
LAST-MODIFIED:20241113T162031Z
UID:23463-1731715200-1732406399@ayto-bailen.com
SUMMARY:XXIII Campeonato España Individual FEDC de Ajedrez
DESCRIPTION:
URL:https://ayto-bailen.com/eventos/xxiii-campeonato-espana-individual-fedc-de-ajedrez/
CATEGORIES:Deportes
ORGANIZER;CN="Delegaci%C3%B3n de Deportes":MAILTO:deportes@ayto-bailen.com
END:VEVENT
BEGIN:VEVENT
DTSTART;VALUE=DATE:20241123
DTEND;VALUE=DATE:20241124
DTSTAMP:20260422T213554
CREATED:20241120T183021Z
LAST-MODIFIED:20241120T183021Z
UID:23563-1732320000-1732406399@ayto-bailen.com
SUMMARY:Fútbol
DESCRIPTION:Categoría Alevin  3ª Andaluza \nRtvo. Bailen CF \nInter Jaén \nHora:11:00 horas \nCategoría Alevin  4ª Andaluza \nRtvo. Bailen CF \nC.D. Ibros \nHora:11:00 horas \nCategoría Alevin  3ª Andaluza \nRtvo. Bailen CF \nC.D. Martos \nHora:12:30 horas \nCategoría Juvenil 2ª  Andaluza \nRtvo. Bailen CF \nC.D. Ibros \nHora:19:00 horas \nUbicación: Complejo Municipal “19 de Julio” Campo “Gregorio Manzano Ballesteros”
URL:https://ayto-bailen.com/eventos/futbol-93/
CATEGORIES:Deportes
ORGANIZER;CN="Diputacion de Ja%C3%A9n":MAILTO:informacion@dipujaen.es
END:VEVENT
BEGIN:VEVENT
DTSTART;VALUE=DATE:20241123
DTEND;VALUE=DATE:20241124
DTSTAMP:20260422T213554
CREATED:20241120T183941Z
LAST-MODIFIED:20241120T183941Z
UID:23569-1732320000-1732406399@ayto-bailen.com
SUMMARY:Tenis de Mesa
DESCRIPTION:
URL:https://ayto-bailen.com/eventos/tenis-de-mesa-2/
CATEGORIES:Deportes
ORGANIZER;CN="Delegaci%C3%B3n de Deportes":MAILTO:deportes@ayto-bailen.com
END:VEVENT
BEGIN:VEVENT
DTSTART;VALUE=DATE:20241123
DTEND;VALUE=DATE:20241125
DTSTAMP:20260422T213554
CREATED:20241121T155051Z
LAST-MODIFIED:20241121T155051Z
UID:23574-1732320000-1732492799@ayto-bailen.com
SUMMARY:Liga de Fútbol Sala de Bailén Temporada 2024/25 Horarios 2ª Jornada
DESCRIPTION:
URL:https://ayto-bailen.com/eventos/liga-de-futbol-sala-de-bailen-temporada-2024-25-horarios-2a-jornada/
CATEGORIES:Deportes
ORGANIZER;CN="Delegaci%C3%B3n de Deportes":MAILTO:deportes@ayto-bailen.com
END:VEVENT
BEGIN:VEVENT
DTSTART;TZID=UTC:20241123T193000
DTEND;TZID=UTC:20241123T220000
DTSTAMP:20260422T213554
CREATED:20241115T165616Z
LAST-MODIFIED:20241115T190224Z
UID:23493-1732390200-1732399200@ayto-bailen.com
SUMMARY:X Concurso de Cante Flamenco "José Antonio Pérez de Castro Barrabás"
DESCRIPTION:Organizado por la Asociación Peña Flamenca «El Puchero». \nEntrada donativo 5 euros. \nApto para todos los públicos. \n 
URL:https://ayto-bailen.com/eventos/x-concurso-de-cante-flamenco-jose-antonio-perez-de-castro-barrabas/
LOCATION:Salón de Actos de la Casa de la Cultura\, Calle de los Héroes de Bailén\, número 18\, Bailén\, Jaén\, 23710\, España
CATEGORIES:Evento Cultural
END:VEVENT
END:VCALENDAR