BEGIN:VCALENDAR
VERSION:2.0
PRODID:-//Ayto Bailén - ECPv6.15.20//NONSGML v1.0//EN
CALSCALE:GREGORIAN
METHOD:PUBLISH
X-ORIGINAL-URL:https://ayto-bailen.com
X-WR-CALDESC:Eventos para Ayto Bailén
REFRESH-INTERVAL;VALUE=DURATION:PT1H
X-Robots-Tag:noindex
X-PUBLISHED-TTL:PT1H
BEGIN:VTIMEZONE
TZID:UTC
BEGIN:STANDARD
TZOFFSETFROM:+0000
TZOFFSETTO:+0000
TZNAME:UTC
DTSTART:20230101T000000
END:STANDARD
END:VTIMEZONE
BEGIN:VEVENT
DTSTART;VALUE=DATE:20241109
DTEND;VALUE=DATE:20241110
DTSTAMP:20260421T193927
CREATED:20241106T164908Z
LAST-MODIFIED:20241106T164908Z
UID:23314-1731110400-1731196799@ayto-bailen.com
SUMMARY:Fútbol Sala
DESCRIPTION:Categoría Senior Masculino 3ª División \nC.D. Bailén 2008 F.S. \nC.D. Universidad de Malaga \nHora: 17:30 Horas \nUbicación:: Pabellón Municipal “28 de Febrero”
URL:https://ayto-bailen.com/eventos/futbol-sala-55/
CATEGORIES:Deportes
ORGANIZER;CN="Delegaci%C3%B3n de Deportes":MAILTO:deportes@ayto-bailen.com
END:VEVENT
BEGIN:VEVENT
DTSTART;VALUE=DATE:20241109
DTEND;VALUE=DATE:20241110
DTSTAMP:20260421T193927
CREATED:20241106T170411Z
LAST-MODIFIED:20241106T170411Z
UID:23318-1731110400-1731196799@ayto-bailen.com
SUMMARY:Fútbol
DESCRIPTION:Categoría Fútbol 7 Alevin 3ª Andaluza \nRtvo\, de Bailén C.F. \nC.D. Jaén 2021 \nHora: 12:00 Horas \nCategoría Fútbol 7 Benjamin3ª Andaluza \nRtvo\, de Bailén C.F. \nC.D. Tuccitana \nHora: 12:00 Horas \nCategoría Fútbol Cadete 2ª Andaluza \nRtvo\, de Bailén C.F. \nC.D. Ubeda Viva \nHora: 16:30 Horas \nCategoría Fútbol Juvenil 2ª Andaluza \nRtvo\, de Bailén C.F. \nC.D Ubeda Viva \nHora: 19:00 Horas \nUbicación: Complejo Municipal “19 de Julio” Campo “Gregorio Manzano Ballesteros” \n 
URL:https://ayto-bailen.com/eventos/futbol-89/
CATEGORIES:Deportes
ORGANIZER;CN="Delegaci%C3%B3n de Deportes":MAILTO:deportes@ayto-bailen.com
END:VEVENT
BEGIN:VEVENT
DTSTART;TZID=UTC:20241109T200000
DTEND;TZID=UTC:20241109T220000
DTSTAMP:20260421T193927
CREATED:20241026T131449Z
LAST-MODIFIED:20241028T091140Z
UID:23157-1731182400-1731189600@ayto-bailen.com
SUMMARY:Teatro Otoño cultural Los Invisibles de La Coracha Teatro
DESCRIPTION:Sinópsis\n\n\n\n\nDos mendigos. Él\, que lleva poco tiempo en la calle\, no ha olvidado la vida visible y la necesita. Ella\, que ya ha perdido la cuenta\, ha encontrado en la invisibilidad su propia felicidad. Illa y Tío Mierda se volvieron invisibles para el mundo por razones muy distintas\, y hoy ‘celebran’ el primer aniversario de su encuentro en la calle. \n\nVenta de entradas Casa de la Cultura. Precio 3 euros. \n 
URL:https://ayto-bailen.com/eventos/teatro-otono-cultural-los-invisibles-de-la-coracha-teatro/
LOCATION:Salón de Actos de la Casa de la Cultura\, Calle de los Héroes de Bailén\, número 18\, Bailén\, Jaén\, 23710\, España
CATEGORIES:Evento Cultural
END:VEVENT
END:VCALENDAR