BEGIN:VCALENDAR
VERSION:2.0
PRODID:-//Ayto Bailén - ECPv6.15.20//NONSGML v1.0//EN
CALSCALE:GREGORIAN
METHOD:PUBLISH
X-WR-CALNAME:Ayto Bailén
X-ORIGINAL-URL:https://ayto-bailen.com
X-WR-CALDESC:Eventos para Ayto Bailén
REFRESH-INTERVAL;VALUE=DURATION:PT1H
X-Robots-Tag:noindex
X-PUBLISHED-TTL:PT1H
BEGIN:VTIMEZONE
TZID:UTC
BEGIN:STANDARD
TZOFFSETFROM:+0000
TZOFFSETTO:+0000
TZNAME:UTC
DTSTART:20220101T000000
END:STANDARD
END:VTIMEZONE
BEGIN:VEVENT
DTSTART;TZID=UTC:20231102T203000
DTEND;TZID=UTC:20231102T223000
DTSTAMP:20260421T233332
CREATED:20231102T174123Z
LAST-MODIFIED:20231102T174123Z
UID:18442-1698957000-1698964200@ayto-bailen.com
SUMMARY:Cine de Terror "Insidious"
DESCRIPTION:Cine con motivo de la Fiesta de Halloween. Proyección de la Película «Insidious»\, de James Wan. \nEntrada libre hasta completar aforo. \nNo recomendada para menores de dieciséis años.
URL:https://ayto-bailen.com/eventos/cine-de-terror-insidious/
LOCATION:Salón de Actos de la Casa de la Cultura\, Calle de los Héroes de Bailén\, número 18\, Bailén\, Jaén\, 23710\, España
ORGANIZER;CN="Ayuntamiento de Bail%C3%A9n":MAILTO:informacion@ayto-bailen.com
END:VEVENT
END:VCALENDAR