BEGIN:VCALENDAR
VERSION:2.0
PRODID:-//Ayto Bailén - ECPv6.15.20//NONSGML v1.0//EN
CALSCALE:GREGORIAN
METHOD:PUBLISH
X-WR-CALNAME:Ayto Bailén
X-ORIGINAL-URL:https://ayto-bailen.com
X-WR-CALDESC:Eventos para Ayto Bailén
REFRESH-INTERVAL;VALUE=DURATION:PT1H
X-Robots-Tag:noindex
X-PUBLISHED-TTL:PT1H
BEGIN:VTIMEZONE
TZID:UTC
BEGIN:STANDARD
TZOFFSETFROM:+0000
TZOFFSETTO:+0000
TZNAME:UTC
DTSTART:20220101T000000
END:STANDARD
END:VTIMEZONE
BEGIN:VEVENT
DTSTART;VALUE=DATE:20230930
DTEND;VALUE=DATE:20231009
DTSTAMP:20260422T235954
CREATED:20230918T044827Z
LAST-MODIFIED:20230920T073606Z
UID:17873-1696032000-1696809599@ayto-bailen.com
SUMMARY:Recreación de la Batalla de Baylén 2023
DESCRIPTION:Regresa un año más la Recreación de la Batalla de Baylén. Un amplio conjunto de actividades se podrán disfrutar desde el sábado 30 de septiembre hasta el domingo 8 de octubre\, día en el que tendrá lugar el acto principal\, es decir\, la propia recreación. Puede consultar la programación pinche aquí. \nPara aquellas actividades con aforo limitado y para las que es necesario adquirir tickets\, éstos podrán comprarse en el Museo de la Batalla de Bailén (en su horario habitual) o en la aplicación móvil Ayuntamiento Bailén. Estarán disponibles para su adquisición a partir del viernes 22 de septiembre. \nCualquier información adicional\, puede contactar con el departamento de turismo del Ayuntamiento de Bailén\, a través de turismo@ayto-bailen.com\, o bien\, a través del teléfono: 953678540.
URL:https://ayto-bailen.com/eventos/recreacion-de-la-batalla-de-baylen-2023/
CATEGORIES:Fiesta
ORGANIZER;CN="Ayuntamiento de Bail%C3%A9n":MAILTO:informacion@ayto-bailen.com
END:VEVENT
BEGIN:VEVENT
DTSTART;VALUE=DATE:20231001
DTEND;VALUE=DATE:20231002
DTSTAMP:20260422T235954
CREATED:20230928T081047Z
LAST-MODIFIED:20230928T081047Z
UID:18039-1696118400-1696204799@ayto-bailen.com
SUMMARY:Fútbol Sala Tercera División
DESCRIPTION:Categoría Senior Masculino \nC.D. Bailén 2008 F.S. \nU.D. Torre del Mar (Malaga) \nHora: 13:00 horas \nUbicación: Pabellón Municipal “28 de Febrero”
URL:https://ayto-bailen.com/eventos/futbol-sala-tercera-division/
CATEGORIES:Deportes
ORGANIZER;CN="Delegaci%C3%B3n de Deportes":MAILTO:deportes@ayto-bailen.com
END:VEVENT
BEGIN:VEVENT
DTSTART;VALUE=DATE:20231001
DTEND;VALUE=DATE:20231002
DTSTAMP:20260422T235954
CREATED:20230928T081910Z
LAST-MODIFIED:20230928T081910Z
UID:18043-1696118400-1696204799@ayto-bailen.com
SUMMARY:Fútbol
DESCRIPTION:Categoría Senior 2ª Andaluza \nRtvo. de Bailén C.F. \nC.D. Arjonilla \nHora: 19:00 horas \nUbicación: Complejo Municipal “19 de Julio” Campo “Gregorio Manzano Ballesteros”
URL:https://ayto-bailen.com/eventos/futbol-9/
CATEGORIES:Deportes
ORGANIZER;CN="Delegaci%C3%B3n de Deportes":MAILTO:deportes@ayto-bailen.com
END:VEVENT
BEGIN:VEVENT
DTSTART;TZID=UTC:20231001T183000
DTEND;TZID=UTC:20231001T200000
DTSTAMP:20260422T235954
CREATED:20230920T162035Z
LAST-MODIFIED:20230920T162035Z
UID:17925-1696185000-1696190400@ayto-bailen.com
SUMMARY:Valentina
DESCRIPTION:  \n \nProyección de la película «Valentina»\, de Chelo Loureiro. \nInvitaciones gratuitas en www.giglon.com o en la Casa de la Cultura. \nApta para todos los públicos y especialmente recomendada para la infancia. \nColabora Filmoteca Nacional e Instituto de la Cinematografía y delas Artes Audiovisuales.
URL:https://ayto-bailen.com/eventos/valentina/
LOCATION:Salón de Actos de la Casa de la Cultura\, Calle de los Héroes de Bailén\, número 18\, Bailén\, Jaén\, 23710\, España
CATEGORIES:Evento Cultural
ORGANIZER;CN="Ayuntamiento de Bail%C3%A9n":MAILTO:informacion@ayto-bailen.com
END:VEVENT
END:VCALENDAR