BEGIN:VCALENDAR
VERSION:2.0
PRODID:-//Ayto Bailén - ECPv6.15.19//NONSGML v1.0//EN
CALSCALE:GREGORIAN
METHOD:PUBLISH
X-WR-CALNAME:Ayto Bailén
X-ORIGINAL-URL:https://ayto-bailen.com
X-WR-CALDESC:Eventos para Ayto Bailén
REFRESH-INTERVAL;VALUE=DURATION:PT1H
X-Robots-Tag:noindex
X-PUBLISHED-TTL:PT1H
BEGIN:VTIMEZONE
TZID:UTC
BEGIN:STANDARD
TZOFFSETFROM:+0000
TZOFFSETTO:+0000
TZNAME:UTC
DTSTART:20220101T000000
END:STANDARD
END:VTIMEZONE
BEGIN:VEVENT
DTSTART;VALUE=DATE:20230928
DTEND;VALUE=DATE:20230929
DTSTAMP:20260420T073300
CREATED:20230921T074859Z
LAST-MODIFIED:20230921T074859Z
UID:17941-1695859200-1695945599@ayto-bailen.com
SUMMARY:Fútbol
DESCRIPTION:Categoría Prebenjamin \nRtvo. de Bailén C.F. \nC.D. Atco. de Mengibar \nHora: 18:00 horas \nUbicación: Complejo Municipal “19 de Julio” Campo “Gregorio Manzano Ballesteros”
URL:https://ayto-bailen.com/eventos/futbol-7/
CATEGORIES:Deportes
ORGANIZER;CN="Delegaci%C3%B3n de Deportes":MAILTO:deportes@ayto-bailen.com
END:VEVENT
END:VCALENDAR