BEGIN:VCALENDAR
VERSION:2.0
PRODID:-//Ayto Bailén - ECPv6.15.20//NONSGML v1.0//EN
CALSCALE:GREGORIAN
METHOD:PUBLISH
X-WR-CALNAME:Ayto Bailén
X-ORIGINAL-URL:https://ayto-bailen.com
X-WR-CALDESC:Eventos para Ayto Bailén
REFRESH-INTERVAL;VALUE=DURATION:PT1H
X-Robots-Tag:noindex
X-PUBLISHED-TTL:PT1H
BEGIN:VTIMEZONE
TZID:UTC
BEGIN:STANDARD
TZOFFSETFROM:+0000
TZOFFSETTO:+0000
TZNAME:UTC
DTSTART:20220101T000000
END:STANDARD
END:VTIMEZONE
BEGIN:VEVENT
DTSTART;VALUE=DATE:20230913
DTEND;VALUE=DATE:20230918
DTSTAMP:20260423T035927
CREATED:20230913T081145Z
LAST-MODIFIED:20230914T151154Z
UID:17782-1694563200-1694995199@ayto-bailen.com
SUMMARY:Museo: Exposición temporal
DESCRIPTION:Exposición temporal de Miguel Ruiz\, artísta autodidacta jienense\, nacido el 14 de abril de 2001. Dibujante y escritor vilcheño\, conviviente con el arte desde los seis años de edad aunque es a los diecinueve años cuando da un giro a su arte y comienza su carrera artística. Este joven se está haciendo un hueco en el arte andaluz y nos muestra en esta ocasión sus dibujos hechos de grafito con un toque de actualidad. \nSe puede visitar de en la sala de exposiciones temporales del Museo de Batalla de Bailén en el horario habitual : de 10:00 h a 14:00h y de 18:30h a 21:30h.
URL:https://ayto-bailen.com/eventos/exposicion-temporal/
LOCATION:Museo de la Batalla de Bailén
CATEGORIES:Exposicion
ORGANIZER;CN="Ayuntamiento de Bail%C3%A9n":MAILTO:informacion@ayto-bailen.com
END:VEVENT
BEGIN:VEVENT
DTSTART;VALUE=DATE:20230917
DTEND;VALUE=DATE:20230918
DTSTAMP:20260423T035927
CREATED:20230913T071854Z
LAST-MODIFIED:20230913T071854Z
UID:17775-1694908800-1694995199@ayto-bailen.com
SUMMARY:Fútbol
DESCRIPTION:Categoría Benjamin Masculino: \nRtvo de Bailén C.F \nAtco. Mancha Real \nHora: 16:30 horas \nCategoría Alevín Masculino: \nRtvo de Bailén C.F \nAtco. Mancha Real \nHora: 16:30 horas \nCategoría Senior Masculino: \nRtvo de Bailén C.F \nC.D. Utica \nHora: 19:00 horas \nUbicación: Complejo Municipal «19 de Julio»  Campo «Gregorio Manzano Ballesteros»
URL:https://ayto-bailen.com/eventos/futbol/
CATEGORIES:Deportes
ORGANIZER;CN="Delegaci%C3%B3n de Deportes":MAILTO:deportes@ayto-bailen.com
END:VEVENT
BEGIN:VEVENT
DTSTART;TZID=UTC:20230917T173000
DTEND;TZID=UTC:20230917T183000
DTSTAMP:20260423T035927
CREATED:20230913T072156Z
LAST-MODIFIED:20230913T072156Z
UID:17777-1694971800-1694975400@ayto-bailen.com
SUMMARY:Fútbol Sala
DESCRIPTION:Categoría Cadete Masculino: \nC.D. Bailén 2008 F.S. \nAndujar F.S. \nUbicación: Pabellón Municipal «28 de Febrero»
URL:https://ayto-bailen.com/eventos/futbol-sala-4/
CATEGORIES:Deportes
ORGANIZER;CN="Delegaci%C3%B3n de Deportes":MAILTO:deportes@ayto-bailen.com
END:VEVENT
END:VCALENDAR