BEGIN:VCALENDAR
VERSION:2.0
PRODID:-//Ayto Bailén - ECPv6.15.20//NONSGML v1.0//EN
CALSCALE:GREGORIAN
METHOD:PUBLISH
X-WR-CALNAME:Ayto Bailén
X-ORIGINAL-URL:https://ayto-bailen.com
X-WR-CALDESC:Eventos para Ayto Bailén
REFRESH-INTERVAL;VALUE=DURATION:PT1H
X-Robots-Tag:noindex
X-PUBLISHED-TTL:PT1H
BEGIN:VTIMEZONE
TZID:UTC
BEGIN:STANDARD
TZOFFSETFROM:+0000
TZOFFSETTO:+0000
TZNAME:UTC
DTSTART:20220101T000000
END:STANDARD
END:VTIMEZONE
BEGIN:VEVENT
DTSTART;TZID=UTC:20230603T093000
DTEND;TZID=UTC:20230603T110000
DTSTAMP:20260420T204132
CREATED:20230531T165442Z
LAST-MODIFIED:20230531T165442Z
UID:17048-1685784600-1685790000@ayto-bailen.com
SUMMARY:BALONCESTO COPA DIPUTACIÓN 22-23 FASE FINAL INFANTIL FEMENINO 1ª SEMINIFINAL
DESCRIPTION:C.P.D. BAILÉN/UB. BAILÉN \nOFICINA DE SERVICIOS AGRÍCOLAS JAÉN CB \nLUGAR: PABELLÓN POLIDEPORTIVO “JUAN SANZ SÁNCHEZ “ \n 
URL:https://ayto-bailen.com/eventos/baloncesto-copa-diputacion-22-23-fase-final-infantil-femenino-1a-seminifinal/
END:VEVENT
BEGIN:VEVENT
DTSTART;TZID=UTC:20230603T110000
DTEND;TZID=UTC:20230603T123000
DTSTAMP:20260420T204132
CREATED:20230531T165611Z
LAST-MODIFIED:20230531T165611Z
UID:17050-1685790000-1685795400@ayto-bailen.com
SUMMARY:BALONCESTO COPA DIPUTACIÓN 22-23 FASE FINAL INFANTIL FEMENINO 2ª SEMINIFINAL
DESCRIPTION:C.B. ANDUJAR \nCB. BAEZA \nLUGAR: PABELLÓN POLIDEPORTIVO “JUAN SANZ SÁNCHEZ “
URL:https://ayto-bailen.com/eventos/baloncesto-copa-diputacion-22-23-fase-final-infantil-femenino-2a-seminifinal/
END:VEVENT
BEGIN:VEVENT
DTSTART;TZID=UTC:20230603T124500
DTEND;TZID=UTC:20230603T140000
DTSTAMP:20260420T204132
CREATED:20230531T165722Z
LAST-MODIFIED:20230531T165722Z
UID:17052-1685796300-1685800800@ayto-bailen.com
SUMMARY:BALONCESTO COPA DIPUTACIÓN 22-23 FASE FINAL INFANTIL FEMENINO FINAL
DESCRIPTION:GANADOR 1ª SEMIFINAL \nGANADOR 2ª SEMIFINAL \nLUGAR: PABELLÓN POLIDEPORTIVO “JUAN SANZ SÁNCHEZ “
URL:https://ayto-bailen.com/eventos/baloncesto-copa-diputacion-22-23-fase-final-infantil-femenino-final/
END:VEVENT
END:VCALENDAR