BEGIN:VCALENDAR
VERSION:2.0
PRODID:-//Ayto Bailén - ECPv6.15.20//NONSGML v1.0//EN
CALSCALE:GREGORIAN
METHOD:PUBLISH
X-ORIGINAL-URL:https://ayto-bailen.com
X-WR-CALDESC:Eventos para Ayto Bailén
REFRESH-INTERVAL;VALUE=DURATION:PT1H
X-Robots-Tag:noindex
X-PUBLISHED-TTL:PT1H
BEGIN:VTIMEZONE
TZID:UTC
BEGIN:STANDARD
TZOFFSETFROM:+0000
TZOFFSETTO:+0000
TZNAME:UTC
DTSTART:20220101T000000
END:STANDARD
END:VTIMEZONE
BEGIN:VEVENT
DTSTART;TZID=UTC:20230521T173000
DTEND;TZID=UTC:20230521T190000
DTSTAMP:20260420T204549
CREATED:20230518T140816Z
LAST-MODIFIED:20230518T140816Z
UID:16962-1684690200-1684695600@ayto-bailen.com
SUMMARY:FÚTBOL SALA FASE FINAL CAMPEONATO COPA DIPUTACIÓN CADETE F.S. (JAÉN) Grupo Único
DESCRIPTION:C.D. BAILEN 2008 F.S.\nC.D. UBEDA VIVA \nLUGAR: PABELLÓN MUNICIPAL “28 DE FEBRERO”
URL:https://ayto-bailen.com/eventos/futbol-sala-fase-final-campeonato-copa-diputacion-cadete-f-s-jaen-grupo-unico/
END:VEVENT
BEGIN:VEVENT
DTSTART;TZID=UTC:20230521T173000
DTEND;TZID=UTC:20230521T193000
DTSTAMP:20260420T204549
CREATED:20230518T140524Z
LAST-MODIFIED:20230518T140524Z
UID:16958-1684690200-1684697400@ayto-bailen.com
SUMMARY:FÚTBOL ELIMINATORIAS PREVIAS CAMPEONATO DE COPA DIPUTACIÓN CADETE (JAÉN) Fase Previa
DESCRIPTION:RECREATIVO DE BAILEN C.F.\nJODAR E.M. \nLUGAR: COMPLEJO MUNICIPAL 19 DE JULIO ” CAMPO DE FUTBOL GREGORIO MANZANO BALLESTEROS”
URL:https://ayto-bailen.com/eventos/futbol-eliminatorias-previas-campeonato-de-copa-diputacion-cadete-jaen-fase-previa/
END:VEVENT
BEGIN:VEVENT
DTSTART;TZID=UTC:20230521T183000
DTEND;TZID=UTC:20230521T200000
DTSTAMP:20260420T204549
CREATED:20230518T141018Z
LAST-MODIFIED:20230518T141018Z
UID:16964-1684693800-1684699200@ayto-bailen.com
SUMMARY:BALONCESTO MINI MIXTO PROVINCIAL
DESCRIPTION:C.P.D. BAILÉN/UB. BAILÉN \nADB VVA DE LA REINA \nLUGAR: PABELLÓN POLIDEPORTIVO “JUAN SANZ SÁNCHEZ “
URL:https://ayto-bailen.com/eventos/baloncesto-mini-mixto-provincial-2/
END:VEVENT
BEGIN:VEVENT
DTSTART;TZID=UTC:20230521T193000
DTEND;TZID=UTC:20230521T210000
DTSTAMP:20260420T204549
CREATED:20230518T140734Z
LAST-MODIFIED:20230518T140734Z
UID:16960-1684697400-1684702800@ayto-bailen.com
SUMMARY:FÚTBOL SALA FASE FINAL CAMPEONATO COPA DIPUTACIÓN JUVENIL F.S.(JAÉN) Grupo Único
DESCRIPTION:C.D. BAILEN 2008 F.S.\nC.D. ATLETICO MENGIBAR \nLUGAR: PABELLÓN MUNICIPAL “28 DE FEBRERO”
URL:https://ayto-bailen.com/eventos/futbol-sala-fase-final-campeonato-copa-diputacion-juvenil-f-s-jaen-grupo-unico/
END:VEVENT
BEGIN:VEVENT
DTSTART;TZID=UTC:20230521T200000
DTEND;TZID=UTC:20230521T220000
DTSTAMP:20260420T204549
CREATED:20230518T140432Z
LAST-MODIFIED:20230518T140432Z
UID:16956-1684699200-1684706400@ayto-bailen.com
SUMMARY:FÚTBOL FASE FINAL CAMPEONATO DE COPA SUBDELEGADA DEL GOBIERNO SENIOR (JAÉN) Grupo Único
DESCRIPTION:RECREATIVO DE BAILEN C.F.\nASOC.DVA. LOPERA \nLUGAR: COMPLEJO MUNICIPAL 19 DE JULIO ” CAMPO DE FUTBOL GREGORIO MANZANO BALLESTEROS”
URL:https://ayto-bailen.com/eventos/futbol-fase-final-campeonato-de-copa-subdelegada-del-gobierno-senior-jaen-grupo-unico/
END:VEVENT
BEGIN:VEVENT
DTSTART;TZID=UTC:20230521T200000
DTEND;TZID=UTC:20230521T220000
DTSTAMP:20260420T204549
CREATED:20230518T141934Z
LAST-MODIFIED:20230518T141934Z
UID:16966-1684699200-1684706400@ayto-bailen.com
SUMMARY:BALONCESTO JUNIOR MASCULINO COPA DIPUTACIÓN
DESCRIPTION:C.P.D. BAILÉN/UB. BAILÉN \nMAR FOTOVOLTAICAS INSTALACIONES LBC \nLUGAR: PABELLÓN POLIDEPORTIVO “JUAN SANZ SÁNCHEZ “
URL:https://ayto-bailen.com/eventos/baloncesto-junior-masculino-copa-diputacion/
END:VEVENT
END:VCALENDAR