BEGIN:VCALENDAR
VERSION:2.0
PRODID:-//Ayto Bailén - ECPv6.15.20//NONSGML v1.0//EN
CALSCALE:GREGORIAN
METHOD:PUBLISH
X-ORIGINAL-URL:https://ayto-bailen.com
X-WR-CALDESC:Eventos para Ayto Bailén
REFRESH-INTERVAL;VALUE=DURATION:PT1H
X-Robots-Tag:noindex
X-PUBLISHED-TTL:PT1H
BEGIN:VTIMEZONE
TZID:UTC
BEGIN:STANDARD
TZOFFSETFROM:+0000
TZOFFSETTO:+0000
TZNAME:UTC
DTSTART:20220101T000000
END:STANDARD
END:VTIMEZONE
BEGIN:VEVENT
DTSTART;TZID=UTC:20230519T173000
DTEND;TZID=UTC:20230519T190000
DTSTAMP:20260420T204432
CREATED:20230518T140246Z
LAST-MODIFIED:20230518T140246Z
UID:16952-1684517400-1684522800@ayto-bailen.com
SUMMARY:FÚTBOL 7 CAMPEONATO DE COPA DIPUTACIÓN ALEVÍN (JAÉN) Grupo 8
DESCRIPTION:RECREATIVO DE BAILEN C.F.\nLINARES DEPORTIVO «C» \nLUGAR: COMPLEJO MUNICIPAL 19 DE JULIO ” CAMPO DE FUTBOL GREGORIO MANZANO BALLESTEROS”
URL:https://ayto-bailen.com/eventos/futbol-7-campeonato-de-copa-diputacion-alevin-jaen-grupo-8-2/
END:VEVENT
BEGIN:VEVENT
DTSTART;TZID=UTC:20230519T190000
DTEND;TZID=UTC:20230519T203000
DTSTAMP:20260420T204432
CREATED:20230518T140102Z
LAST-MODIFIED:20230518T140102Z
UID:16950-1684522800-1684528200@ayto-bailen.com
SUMMARY:FÚTBOL 7 ELIMINATORIAS PREVIAS CAMPEONATO DE COPA DIPUTACIÓN ALEVÍN (JAÉN) Fase Previa
DESCRIPTION:RECREATIVO DE BAILEN C.F.\nC.D. ALCAUDETE JUNIORS \nLUGAR: COMPLEJO MUNICIPAL 19 DE JULIO ” CAMPO DE FUTBOL GREGORIO MANZANO BALLESTEROS”
URL:https://ayto-bailen.com/eventos/futbol-7-eliminatorias-previas-campeonato-de-copa-diputacion-alevin-jaen-fase-previa/
END:VEVENT
END:VCALENDAR