BEGIN:VCALENDAR
VERSION:2.0
PRODID:-//Ayto Bailén - ECPv6.15.20//NONSGML v1.0//EN
CALSCALE:GREGORIAN
METHOD:PUBLISH
X-WR-CALNAME:Ayto Bailén
X-ORIGINAL-URL:https://ayto-bailen.com
X-WR-CALDESC:Eventos para Ayto Bailén
REFRESH-INTERVAL;VALUE=DURATION:PT1H
X-Robots-Tag:noindex
X-PUBLISHED-TTL:PT1H
BEGIN:VTIMEZONE
TZID:UTC
BEGIN:STANDARD
TZOFFSETFROM:+0000
TZOFFSETTO:+0000
TZNAME:UTC
DTSTART:20220101T000000
END:STANDARD
END:VTIMEZONE
BEGIN:VEVENT
DTSTART;TZID=UTC:20230513T120000
DTEND;TZID=UTC:20230513T140000
DTSTAMP:20260420T203618
CREATED:20230511T074142Z
LAST-MODIFIED:20230511T074142Z
UID:16883-1683979200-1683986400@ayto-bailen.com
SUMMARY:FÚTBOL SALA CAMPEONATO DE COPA DIPUTACIÓN CADETE F.S. (JAÉN) Grupo 1
DESCRIPTION:C.D. BAILEN 2008 F.S.\nLINARES DEPORTIVO \nLUGAR: PABELLÓN MUNICIPAL «28 DE FEBRERO
URL:https://ayto-bailen.com/eventos/futbol-sala-campeonato-de-copa-diputacion-cadete-f-s-jaen-grupo-1-2/
END:VEVENT
BEGIN:VEVENT
DTSTART;TZID=UTC:20230513T120000
DTEND;TZID=UTC:20230513T140000
DTSTAMP:20260420T203618
CREATED:20230511T080341Z
LAST-MODIFIED:20230511T080341Z
UID:16891-1683979200-1683986400@ayto-bailen.com
SUMMARY:BALONCESTO CADETE MIXTO PROVINCIAL
DESCRIPTION:C.P.D. BAILÉN/UB. BAILÉN \nCB MARMOLEJO \nLUGAR: PABELLÓN POLIDEPORTIVO “JUAN SANZ SÁNCHEZ “
URL:https://ayto-bailen.com/eventos/baloncesto-cadete-mixto-provincial-3/
END:VEVENT
END:VCALENDAR