BEGIN:VCALENDAR
VERSION:2.0
PRODID:-//Ayto Bailén - ECPv6.15.20//NONSGML v1.0//EN
CALSCALE:GREGORIAN
METHOD:PUBLISH
X-WR-CALNAME:Ayto Bailén
X-ORIGINAL-URL:https://ayto-bailen.com
X-WR-CALDESC:Eventos para Ayto Bailén
REFRESH-INTERVAL;VALUE=DURATION:PT1H
X-Robots-Tag:noindex
X-PUBLISHED-TTL:PT1H
BEGIN:VTIMEZONE
TZID:UTC
BEGIN:STANDARD
TZOFFSETFROM:+0000
TZOFFSETTO:+0000
TZNAME:UTC
DTSTART:20220101T000000
END:STANDARD
END:VTIMEZONE
BEGIN:VEVENT
DTSTART;TZID=UTC:20230414T190000
DTEND;TZID=UTC:20230414T210000
DTSTAMP:20260420T204223
CREATED:20230413T161552Z
LAST-MODIFIED:20230413T161552Z
UID:16513-1681498800-1681506000@ayto-bailen.com
SUMMARY:FÚTBOL LIGA FOMENTO FÚTBOL 7 ALEVÍN-INFANTIL FEMENINO (Jaén) Grupo 2
DESCRIPTION:RECREATIVO DE BAILEN C.F.\nC.D. UBEDA VIVA «B» \nLUGAR: COMPLEJO MUNICIPAL 19 DE JULIO ” CAMPO DE FUTBOL GREGORIO MANZANO BALLESTEROS”
URL:https://ayto-bailen.com/eventos/futbol-liga-fomento-futbol-7-alevin-infantil-femenino-jaen-grupo-2/
END:VEVENT
END:VCALENDAR